BEGIN:VCALENDAR
VERSION:2.0
PRODID:-//wp-events-plugin.com//7.2.3.1//EN
TZID:Europe/Warsaw
X-WR-TIMEZONE:Europe/Warsaw
BEGIN:VEVENT
UID:18133@night4u.pl
DTSTART;TZID=Europe/Warsaw:20190615T200000
DTEND;TZID=Europe/Warsaw:20190615T235500
DTSTAMP:20190603T202819Z
URL:https://night4u.pl/wydarzenia/the-doctors-w-anderze/
SUMMARY:The Doctors w Anderze
DESCRIPTION:Zaproszenie na rockowy koncert w olsztyńskim klubie Nowy Ander
 grant. Dwie miejscowe kapele: "Łaski Bez" i "The Doctors" zagrają to\, c
 o mają najlepszego w repertuarze. Sobota\, 15 czerwca 2019.
ATTACH;FMTTYPE=image/jpeg:https://night4u.pl/wp-content/uploads/2019/06/43
 885_image_61708324_2369344509798422_8136725579887017984_o.jpg
CATEGORIES:warmińsko-mazurskie
END:VEVENT
BEGIN:VTIMEZONE
TZID:Europe/Warsaw
X-LIC-LOCATION:Europe/Warsaw
BEGIN:DAYLIGHT
DTSTART:20190331T030000
TZOFFSETFROM:+0100
TZOFFSETTO:+0200
TZNAME:CEST
END:DAYLIGHT
END:VTIMEZONE
END:VCALENDAR