BEGIN:VCALENDAR
VERSION:2.0
PRODID:-//wp-events-plugin.com//7.2.3.1//EN
TZID:Europe/Warsaw
X-WR-TIMEZONE:Europe/Warsaw
BEGIN:VEVENT
UID:37140@night4u.pl
DTSTART;TZID=Europe/Warsaw:20191212T200000
DTEND;TZID=Europe/Warsaw:20191212T220000
DTSTAMP:20200401T080452Z
URL:https://night4u.pl/wydarzenia/the-dumplings-wroclaw-trasa-przykro-mi/
SUMMARY:SOLD OUT! The Dumplings - Wrocław | Trasa Przykro Mi
DESCRIPTION:Plan dnia: \n18.30 - drzwi \nkoncert zespołu  The Dumplings ro
 zpocznie się około 20.15.\nDo zobaczenia! \n****\nKochani!!!\nPrzez osta
 tnie 6 lat graliśmy i nagrywaliśmy dla Was bez przerwy. Dziękujemy\, ż
 e ciągle z nami jesteście i nas wspieracie w tym co robimy. \nTeraz post
 anowiliśmy chwilkę odetchnąć i zrobić dłuższą przerwę\, pozbiera
 ć nowe doświadczenia i wrócić ze zdwojoną siłą!!!\nAle zanim to nas
 tąpi zapraszamy na naszą ostatnią trasę: PRZYKRO MI. Naładujemy Was o
 gromem energii na kolejne lata bez nas! Przybywajcie!!! \n\n12.12.19  godz
 .20.00 Zaklęte Rewiry\,  ul. Krakowska 100 \nTHE DUMPLINGS \nbilety: 65 z
 ł - I pula\, 75 zł - II pula\n\nBilety już w sprzedaży online - zapras
 zamy :\nhttps://iframe29.biletyna.pl/event/view/id/127470/month/201912/pag
 e/1/ipp/9999\n\nTrasa Przykro Mi\n8.11 Oborniki\, OOK\n9.11 Wałbrzych\, S
 tara Kopalnia\n10.11 Wrocław\, Hala Stulecia\n14.11 Ostrów Wlkp.\, Stara
  Przepompownia\n15.11 Łódź\, Wytwórnia\n16.11 Katowice\, P23 SOLD OUT\
 n22.11 Mysłowice\, MOK\n23.11 Kraków\, Studio\n24.11 Chełm\, CHDK\n7.12
  Lublin\, Radio Lublin\n8.12 Bielsko-Biała\, Miasto\n12.12 Wrocław\, Zak
 lęte Rewiry\n13.12 Zielona Góra\, Kawon\n14.12 Poznań\, Tama SOLD OUT\n
 15.12 Szczecin\, Kosmos SOLD OUT\n18.12 Poznań\, Tama DRUGI TERMIN\n19.12
  Bydgoszcz\, MCK\n20.12 Warszawa\, Stodoła\n21.12 Białystok\, Zmiana Kli
 matu\n22.12 Gdańsk\, Stary Maneż\n27.12 Dąbrowa Górnicza\, Pałac Kult
 ury Zagłębia\n28.12 Wolbrom\, DK\n29.12 TBA\n30.12 Warszawa\, Stodoła D
 RUGI TERMIN
ATTACH;FMTTYPE=image/jpeg:https://night4u.pl/wp-content/uploads/2019/11/10
 2404_image_74487311_2603308563050382_7937422596088266752_o.jpg
CATEGORIES:dolnośląskie
LOCATION:Zaklęte Rewiry\, Krakowska 100\, Wroclaw\, 50-427\, Poland
GEO:51.090523;17.065898
X-APPLE-STRUCTURED-LOCATION;VALUE=URI;X-ADDRESS=Krakowska 100\, Wroclaw\, 5
 0-427\, Poland;X-APPLE-RADIUS=100;X-TITLE=Zaklęte Rewiry:geo:51.090523,17
 .065898
END:VEVENT
BEGIN:VTIMEZONE
TZID:Europe/Warsaw
X-LIC-LOCATION:Europe/Warsaw
BEGIN:STANDARD
DTSTART:20191027T020000
TZOFFSETFROM:+0200
TZOFFSETTO:+0100
TZNAME:CET
END:STANDARD
END:VTIMEZONE
END:VCALENDAR