BEGIN:VCALENDAR
VERSION:2.0
PRODID:-//wp-events-plugin.com//7.2.3.1//EN
TZID:Europe/Warsaw
X-WR-TIMEZONE:Europe/Warsaw
BEGIN:VEVENT
UID:27483@night4u.pl
DTSTART;TZID=Europe/Warsaw:20191011T200000
DTEND;TZID=Europe/Warsaw:20191012T000000
DTSTAMP:20190914T110751Z
URL:https://night4u.pl/wydarzenia/the-fake-sneaky-jesus-wroclaw-11-10-2019
 /
SUMMARY:The Fake / Sneaky Jesus / Wroclaw / 11.10.2019
DESCRIPTION:(For English scroll down)\n\nThe Fake wracają do Czuła Jest N
 oc / Uczulenie\, tym razem ze znakomitym nowym Wrocławskim fenomenem funk
 owym\, Sneaky Jesus!\n\nZa JEDYNIE 10 PLN\, otrzymasz bilet na psychodelic
 zny pociąg \npodróżujący przez krainy psychodelii\, jak i przystanek f
 unku.\n\nDołącz do nas na fantastyczny wieczór psychodelii\, pięknych 
 krajobrazów\, i wrażen \n\nZespoły:\n\nThe Fake (rock psychodeliczny / 
 psych rock / rock improwizowany) \n- Kto potrzebuje rzeczywistości\, jeś
 li jest ona względna?! Ten psychodeliczny zespół rockowy z Wrocławia l
 ubi długie muzyczne wędrówki przez chwiejne góry\, ogniste pustynie i 
 inne różnorodne krajobrazy. Znajdziemy w zespole Anila Dursun na basie i
  wokalu\, Nicolai Stensland Szewczyk na gitarze i wokalu oraz Wojciecha 
 „Wojtasa” Rutkowskiego na perkusji. Dołącz do nich w ich muzycznej p
 odróży przez\nprzez wszechświat. Takiej prawdy jeszcze nie doznałeś! 
 \n\nsneaky jesus (free funk / psychedelic funk) \n- Minęło trochę czasu
 \, odkąd free funk brzmiało tak... free. Znajdziemy tu Matyldę Gerber n
 a saksofonie\, Macieja Forreitera na gitarze\, i z Beniaminem Łasiewickim
  i Filipem Baczyńskim w odlotowej sekcji rytmicznej. Ufaj podstępnemu Je
 zusowi\, a podstępny Jezus was wyzwoli.\n\n\nENGLISH:\nThe Fake are comin
 g back to Czula Jest Noc/Uczulenie\, this time with the illustrious new fu
 nk phenomenon\, Sneaky Jesus!\n\nYes\, for ONLY 10 PLN\, you get a ticket 
 to board this psychedelic evening of varied musical experiences\n\nSo join
  us for what is sure to be a fantastic evening of psychedelia\, beautiful 
 landscapes\n\nThe bands:\n\nThe Fake (psychedelic rock/psych rock/improvis
 ed rock) \n- Who needs reality if it's relative?! This psychedelic rock ba
 nd from Wroclaw\, Poland\, likes taking long musical treks across shaky mo
 untains\, fiery deserts and other musical landscapes\, all the while float
 ing in a haze of pure musical bliss. We find Anil Dursun on bass and vocal
 s\, Nicolai Stensland Szewczyk on guitars and vocals\, and Wojciech "Wojta
 s" Rutkowski on drums. Join them in their musical journey across the unive
 rse. You haven't experienced a truth like this yet!\n\nsneaky jesus (free 
 funk / psychedelic funk) \n- It's been a while since free funk sounded so 
 free. We find here Matylda Gerber cranking the sax\, Maciej Forreiter span
 king the guitar\, with Beniamin Łasiewicki and Filip Baczyński laying do
 wn the pulses and beats for all to follow. Yay\, put your trust in Sneaky 
 Jesus\, and Sneaky Jesus shall set you free.
ATTACH;FMTTYPE=image/jpeg:https://night4u.pl/wp-content/uploads/2019/09/63
 989_image_69804076_1678447852286723_188452509134618624_o.jpg
CATEGORIES:dolnośląskie
LOCATION:Czuła jest noc\, ulica Kolejowa 8\, Wroclaw\, 53-508\, Poland
GEO:51.10137;17.0232
X-APPLE-STRUCTURED-LOCATION;VALUE=URI;X-ADDRESS=ulica Kolejowa 8\, Wroclaw\
 , 53-508\, Poland;X-APPLE-RADIUS=100;X-TITLE=Czuła jest noc:geo:51.10137,
 17.0232
END:VEVENT
BEGIN:VTIMEZONE
TZID:Europe/Warsaw
X-LIC-LOCATION:Europe/Warsaw
BEGIN:DAYLIGHT
DTSTART:20190331T030000
TZOFFSETFROM:+0100
TZOFFSETTO:+0200
TZNAME:CEST
END:DAYLIGHT
END:VTIMEZONE
END:VCALENDAR