BEGIN:VCALENDAR
VERSION:2.0
PRODID:-//wp-events-plugin.com//7.2.3.1//EN
TZID:Europe/Warsaw
X-WR-TIMEZONE:Europe/Warsaw
BEGIN:VEVENT
UID:40883@night4u.pl
DTSTART;TZID=Europe/Warsaw:20191229T210000
DTEND;TZID=Europe/Warsaw:20191230T050000
DTSTAMP:20191229T155206Z
URL:https://night4u.pl/wydarzenia/the-final-countdown-2-fade-endi-ndz/
SUMMARY:The Final Countdown 2 | Fade &amp\; Endi NDZ
DESCRIPTION:*** ENGLISH DESCRIPTION BELOW *** \n\nWielkie sylwestrowe odlic
 zanie czas zacząć! Zostały już tylko 2 dni do sylwestra a my chcemy sp
 ędzić je razem z Wami przygotowując się do niego jak najlepiej! Rozkr
 ęcamy imprezę razem z Dj Fade oraz Endi Ndz. #widzimysiewego\n\nRezerwac
 je stolików \noraz oferta dla grup zorganizowanych:\n+ 48 731 351 351\n\n
 ▬ 29.12.2019\n▬ Lista FB: free do 22.00\n▬ Wejście od 21 roku życi
 a (lub za okazaniem legitymacji studenckiej)\n▬ Karty klubowe EGO: Free\
 n\nIt's time to start the big New Year's countdown! There are only 2 days 
 left until New Year's Eve and we want to spend them with you preparing for
  it as best as possible! We're starting the party together with Fade &amp\
 ; Endi NDZ\n\nTable reservations\nAnd offer for organized groups:\n+ 48 73
 1 351 351
ATTACH;FMTTYPE=image/jpeg:https://night4u.pl/wp-content/uploads/2019/12/12
 6696_image_79823273_10157158229679285_7966704918608216064_o.jpg
CATEGORIES:pomorskie
LOCATION:Ego Sopot\, ul. Bohaterów Monte Cassino 53\, Sopot\, 81-767\, Pol
 and
GEO:54.444297;18.566687
X-APPLE-STRUCTURED-LOCATION;VALUE=URI;X-ADDRESS=ul. Bohaterów Monte Cassin
 o 53\, Sopot\, 81-767\, Poland;X-APPLE-RADIUS=100;X-TITLE=Ego Sopot:geo:54
 .444297,18.566687
END:VEVENT
BEGIN:VTIMEZONE
TZID:Europe/Warsaw
X-LIC-LOCATION:Europe/Warsaw
BEGIN:STANDARD
DTSTART:20191027T020000
TZOFFSETFROM:+0200
TZOFFSETTO:+0100
TZNAME:CET
END:STANDARD
END:VTIMEZONE
END:VCALENDAR