BEGIN:VCALENDAR
VERSION:2.0
PRODID:-//wp-events-plugin.com//7.2.3.1//EN
TZID:Europe/Warsaw
X-WR-TIMEZONE:Europe/Warsaw
BEGIN:VEVENT
UID:48645@night4u.pl
DTSTART;TZID=Europe/Warsaw:20200313T220000
DTEND;TZID=Europe/Warsaw:20200314T060000
DTSTAMP:20200331T140405Z
URL:https://night4u.pl/wydarzenia/the-future-is-fickle-vibe-hope-leslie-jo
 a-luna-melrose/
SUMMARY:The Future is: Fickle Vibe / Hope Leslie / Joa Luna / Melrose
DESCRIPTION:The future is: live all night long  //\nCała noc grania na ży
 wo w nowym miejscu w Poznaniu! \n\nFickle Vibe (vintage psychodelic vs. fu
 ture soul // Poznań)\n\nFickle Vibe serwuje świeżą\, energiczną miesz
 ankę dojrzałego podejścia do eksperymentów\, w których nie brakuje pr
 zestrzennych i psychodelicznych momentów zabierających nas w kosmiczną 
 podróż. Ze swoją muzyką zwiedzili już nie tylko polskie miasta\, ale 
 i Gruzję (White Bridge Festival)\, Niemcy (Polytopia Festival\, Lalonova 
 Open Air\, Exchange Festival\, Fete de la Musique)\, a także zostali wybr
 ani przez Dawida Podsiadło w konkursie Skoda Auto Muzyka i zajęli drugie
  miejsce w polskim finale Emergenza Festival.\nWłaśnie wracają z nowym 
 materiałem\, który zapowiada singiel "The path\, the journey and process
 "\n\nListen: https://youtu.be/9Aam0l9OENQ\nMore: https://www.facebook.com/
 ficklevibe/\n\nHope Leslie (alternative\, Indietronica\, Synthpop\, Pop-ro
 ck // Poznań)\nZespół wychodzący poza granice klasycznego indie – ro
 cka. Swoją twórczość określają jako  alternatywną muzykę z mocnym 
 emocjonalnym naciskiem. Wykorzystując przy tym przestrzenne brzmienie git
 ar oraz elektroniki tworzą niezwykłe muzyczne doświadczenie\, zabieraj
 ąc słuchacza w podróż pełną nostalgii i refleksji\n\nListen: https:/
 /www.youtube.com/watch?v=-eAje0yAgmI\nMore: https://www.facebook.com/hopel
 eslieofficial/\n\nJoa Luna (foggy electronic mantra for dancefloor // Berl
 in)\n\nJoa Luna to solowy projekt producentki muzycznej z Berlina (ECLAT C
 ollective). To taneczna opowieść wypełniona subtelnym\, ale i wyrazisty
  wokalem\, rozmytymi brzmieniami syntezatorów i połamanymi bitami trzyma
 jącymi w rytmicznej klubowej mgle. Joa buduje swój świat słyszany prze
 z pryzmat jej wrażliwości i łącząc doświadczenie zdobyte przez lata 
 grania z zespołami z wpływami świata berlińskiej elektroniki\, co zape
 wnia taneczne show i ogrom energii\n\nListen: https://www.youtube.com/watc
 h?v=zE1T0x2YWCo\nMore: https://www.facebook.com/joalunasound/\n\nMelrose (
 Leftfield\, IDM\, Trip-Hop\, Breakbeat\, Electro\, Progressive // Poznań)
 \n\nEklektyczny kolaż jazzowych\, rockowych i elektronicznych sampli\, sy
 ntezatorów\, pianina i smyczkowych instrumentów zakrawa o gatunki takie 
 jak leftfield\, breakbeat\, trip-hop\, downtempo i synth-pop. Organiczne b
 rzmienie \nMelrose we współpracy z zaprzyjaźnionymi muzykami i wokalist
 ami inspirowane jest filmowymi soundtrackami\, muzyką klubową i klasyczn
 ą oraz brzmieniem brytyjskiej sceny muzyki elektronicznej z lat 90. \n\nL
 isten: https://open.spotify.com/track/414MRMAIlyH0tOb5Sx1bNO?si=jMKd13vPRb
 y4JK6MEPyNQw\nMore: https://www.facebook.com/melrosesounds/\n\nBilety\, cz
 yt. wymiana energii: 25 zł (do nabycia w dniu eventu w klubie)\nNOWE MIEJ
 SCE NA MAPIE POZNANIA!!!!!\nGehenna Gimela Show (wejście przez HaH)\nPrzy
 jdź\, zobacz i zostań... na parkiecie całą noc &lt\;3
ATTACH;FMTTYPE=image/jpeg:https://night4u.pl/wp-content/uploads/2020/02/16
 6226_image_88236378_1091642624515643_8962910874834567168_o.jpg
CATEGORIES:wielkopolskie
LOCATION:Gehenna Gimela Show\, Poznan\, Poland
GEO:52.41163;16.93604
X-APPLE-STRUCTURED-LOCATION;VALUE=URI;X-ADDRESS=Poznan\, Poland;X-APPLE-RAD
 IUS=100;X-TITLE=Gehenna Gimela Show:geo:52.41163,16.93604
END:VEVENT
BEGIN:VTIMEZONE
TZID:Europe/Warsaw
X-LIC-LOCATION:Europe/Warsaw
BEGIN:STANDARD
DTSTART:20191027T020000
TZOFFSETFROM:+0200
TZOFFSETTO:+0100
TZNAME:CET
END:STANDARD
END:VTIMEZONE
END:VCALENDAR