BEGIN:VCALENDAR
VERSION:2.0
PRODID:-//wp-events-plugin.com//7.2.3.1//EN
TZID:Europe/Warsaw
X-WR-TIMEZONE:Europe/Warsaw
BEGIN:VEVENT
UID:3423@night4u.pl
DTSTART;TZID=Europe/Warsaw:20190413T200000
DTEND;TZID=Europe/Warsaw:20190414T020000
DTSTAMP:20190111T110819Z
URL:https://night4u.pl/wydarzenia/the-grand-beatbox-battle-2019/
SUMMARY:The Grand Beatbox Battle 2019
DESCRIPTION:The world's biggest annual beatbox battle is back for it's 11th
  edition\, and it's going to be bigger and better than ever!\n\nThis editi
 on of The Grand Beatbox Battle will be held for the first time in klub Sto
 doła in Warsaw\, Poland\, from the 12th-15th April 2019.\n\nIt will consi
 st of 3 categories - Solo Showcase\, Tag-Team\, and Loopstation battles. T
 he participants will be a mixture of invited beatboxers and wildcard winne
 rs. All judges and participants will be announced in the coming weeks and 
 months.\n\nThere will also be a special new show battle\, which will be an
 nounced at a later date. Stay tuned\, you don't want to miss this!\n\nThe 
 wildcard competition will be open from the 1st-30th of October 2018. All i
 nformation regarding wildcard entries will be available soon.\n\nThe offic
 ial GBB2019 Hostel will be available for booking only to registered ticket
  holders. All information for booking your hostel beds will be in the tick
 et confirmation email you will receive upon ordering your tickets.\n\nTick
 et types (available until sold out):\n\nEarly Bird (100 available) - €30
  + BF (booking fee)\nFirst Release (350 available) - €35 + BF\nSecond Re
 lease (350 available) - €40 + BF\nThird Release (350 available) - €40 
 + BF\nFinal Release (TBA) - €40 + BF\nDay 1 (TBA) - €20 +BF\nDay 2 (TB
 A) - €25 +BF\n\nTicket app:\n\niOS - https://itunes.apple.com/us/app/taz
 otix-checkin-app/id1320940061?mt=8&utm_campaign=Admin\n\nGoogle Play - htt
 ps://play.google.com/store/apps/details?id=com.tazotixapp&referrer=utm_sou
 rce%3DAdmin\n\n*Limited door sales will also be available at the venue.\n\
 nUnderage attendees: all people people between the ages of 13-17 who would
  like to attend\, you will be required to fill out an acceptance form sign
 ed by your parent(s) or guardian(s). This letter will be available to down
 load soon. For anyone under the age of 13\, you MUST bring a parent or leg
 al guardian to the event to be able to enter. The parent or guardian will 
 also be required to purchase a ticket.\n\nPlease stay tuned for more infor
 mation in the coming days and weeks.
ATTACH;FMTTYPE=image/jpeg:https://night4u.pl/wp-content/uploads/2019/01/10
 959_image_42490488_2409696005725651_6453076852004093952_n.jpg
CATEGORIES:mazowieckie
LOCATION:klub Stodoła\, \, 
X-APPLE-STRUCTURED-LOCATION;VALUE=URI;X-ADDRESS=\, ;X-APPLE-RADIUS=100;X-TI
 TLE=klub Stodoła:geo:0,0
END:VEVENT
BEGIN:VTIMEZONE
TZID:Europe/Warsaw
X-LIC-LOCATION:Europe/Warsaw
BEGIN:DAYLIGHT
DTSTART:20190331T030000
TZOFFSETFROM:+0100
TZOFFSETTO:+0200
TZNAME:CEST
END:DAYLIGHT
END:VTIMEZONE
END:VCALENDAR