BEGIN:VCALENDAR
VERSION:2.0
PRODID:-//wp-events-plugin.com//7.2.3.1//EN
TZID:Europe/Warsaw
X-WR-TIMEZONE:Europe/Warsaw
BEGIN:VEVENT
UID:32373@night4u.pl
DTSTART;TZID=Europe/Warsaw:20200214T190000
DTEND;TZID=Europe/Warsaw:20200214T230000
DTSTAMP:20200214T021706Z
URL:https://night4u.pl/wydarzenia/the-hot-8-brass-band-hybrydy-warszawa-14
 -02-2020/
SUMMARY:The Hot 8 Brass Band | Hybrydy\, Warszawa\, 14.02.2020
DESCRIPTION:Nominowany do Grammy zespół od lat prezentuje porywającą mi
 eszankę hip-hopu i funku\, którą ubiera w szaty oldschoolowego brass-ba
 ndu. W trakcie swojej działalności doceniani byli wielokrotnie\, równie
 ż przez innych artystów. Dotychczas Hot 8 Brass Band mogą poszczycić s
 ię współpracą z takimi wykonawcami jak Lauryn Hill\, Mos Def czy Blind
  Boys of Alabama. Sama formacja również lubi składać hołdy ważnym dl
 a nich muzykom. Jednak bez względu na to czy grają swoje własne kawałk
 i\, czy wplatają w repertuar klasyki Joy Division\, Snoop Dogga\, Marvina
  Gaye'a lub Stevie Wondera\, ich uliczny flow oraz rozbudowana sekcja dęt
 a tworzą atmosferę\, której trudno nie dać się porwać. W tym roku uk
 azała się ich najnowsza EP-ka “Take Cover”\, którą wychwalano mię
 dzy innymi w BBC oraz "The Rolling Stone". Jak zapowiadają\, impreza na n
 adchodzących koncertach będzie większa\, niż na którejkolwiek z ich d
 otychczasowych tras.\n\nCena: 80 PLN\n\nHARMONOGRAM\n19:00 wejście\n19:45
  support: Harper\n21:00 The Hot 8 Brass Band
ATTACH;FMTTYPE=image/jpeg:https://night4u.pl/wp-content/uploads/2019/12/77
 662_image_79296345_10156500849552687_2781025348890918912_o.jpg
CATEGORIES:mazowieckie
LOCATION:Hybrydy\, Złota 7/9\, Warsaw\, 00-019\, Poland
GEO:52.23268;21.01157
X-APPLE-STRUCTURED-LOCATION;VALUE=URI;X-ADDRESS=Złota 7/9\, Warsaw\, 00-01
 9\, Poland;X-APPLE-RADIUS=100;X-TITLE=Hybrydy:geo:52.23268,21.01157
END:VEVENT
BEGIN:VTIMEZONE
TZID:Europe/Warsaw
X-LIC-LOCATION:Europe/Warsaw
BEGIN:STANDARD
DTSTART:20191027T020000
TZOFFSETFROM:+0200
TZOFFSETTO:+0100
TZNAME:CET
END:STANDARD
END:VTIMEZONE
END:VCALENDAR