BEGIN:VCALENDAR
VERSION:2.0
PRODID:-//wp-events-plugin.com//7.2.3.1//EN
TZID:Europe/Warsaw
X-WR-TIMEZONE:Europe/Warsaw
BEGIN:VEVENT
UID:33743@night4u.pl
DTSTART;TZID=Europe/Warsaw:20191102T210000
DTEND;TZID=Europe/Warsaw:20191103T040000
DTSTAMP:20191103T003324Z
URL:https://night4u.pl/wydarzenia/the-mist-la-casa-de-papel-party-x-um-02-
 11-lista-fb-free-22-3/
SUMMARY:The Mist: La Casa De Papel Party x UM :: 02.11! Lista FB free 23
DESCRIPTION:Już 2 Listopada bawimy się w klimatach La Casa De papel. Dzi
 ęki uprzejmości "Profesora" cały jego skład wpadnie na bar i zaserwuje
 my Wam najlepsze drinki! \n\nMuzycznie możecie spodziewać się dużo muz
 yki Moombahton a intro serialu My life is going on w remixie Buraka Yetera
  zabrzmi w naszych progach. \n\nImprezę organizujemy wspólnie z Samorzą
 d Studentów Uniwersytetu Medycznego w Lublinie.\n\nZapraszamy wszystkich 
 serdecznie\, a bilety możecie nabyć w naszym biurze za jedyne **5 PLN** 
 🤩❗\n\n❗CLAVUS w DS4 ul. Chodźki 13B\, -1\, za xero❗\n\n🔸wtore
 k (29.10) od godziny 14:30 - 18:00\n🔸środa (30.10) od godziny 12:00 - 
 16:00 \n🔸czwartek (31.10) od godziny 12:00 - 14:00\n\nWe cordially invi
 te everyone and you can buy tickets in our office for only **5 PLN** 🤩
 ❗\n\n❗CLAVUS in DS4 ul. Chodźki 13B\, level -1\, near to xero❗\n\n
 🔸Tuesday (29.10) from 2:30 pm to 6:00 pm\n🔸Wednesday (30.10) from 12
 :00 pm to 4:00 pm.\n🔸Thursday (31.10) from 12:00 pm to 2:00 pm.\n\n\n\n
 \n\nSpecjalnie dla Was przygotowaliśmy super promo na barze...\ni to prze
 z całą noc🤩\n🔹 Zimny Somerek z kija za 5  zł😎\n🔸 Wódka z R
 edbullem 15 zł❗\n🔹 Kamikaze 4 szt 15 zł 🥳\n🔸 Gin z toniciem 1
 8 zł 🍸\n🔹 Wódka z sokiem 10 zł 🍹\n\n\n✖ START: 21:00 ✖\n21
 .00 - 23.00 / Lista Facebook\nPo 23 wejście - 10 pln // After 23 entrance
  - 10 pln \n\nDJ's:\n✯ Mordzinski\n✯ Paul \n\n\nDress code:\nElegant C
 asual \n\nRezerwacje miejsc / Seats &amp\; tables:\n💬 Messenger \n📧 
 club@themistclub.eu\n☎ +48 512 375 356
ATTACH;FMTTYPE=image/jpeg:https://night4u.pl/wp-content/uploads/2019/10/85
 212_image_72696024_446914972844087_710913307640332288_o.jpg
CATEGORIES:lubelskie
LOCATION:The Mist Club\, Okopowa 5\, Lublin\, 20-022\, Poland
GEO:51.246111;22.556115
X-APPLE-STRUCTURED-LOCATION;VALUE=URI;X-ADDRESS=Okopowa 5\, Lublin\, 20-022
 \, Poland;X-APPLE-RADIUS=100;X-TITLE=The Mist Club:geo:51.246111,22.556115
END:VEVENT
BEGIN:VTIMEZONE
TZID:Europe/Warsaw
X-LIC-LOCATION:Europe/Warsaw
BEGIN:STANDARD
DTSTART:20191027T020000
TZOFFSETFROM:+0200
TZOFFSETTO:+0100
TZNAME:CET
END:STANDARD
END:VTIMEZONE
END:VCALENDAR