BEGIN:VCALENDAR
VERSION:2.0
PRODID:-//wp-events-plugin.com//7.2.3.1//EN
TZID:Europe/Warsaw
X-WR-TIMEZONE:Europe/Warsaw
BEGIN:VEVENT
UID:29240@night4u.pl
DTSTART;TZID=Europe/Warsaw:20191011T210000
DTEND;TZID=Europe/Warsaw:20191012T040000
DTSTAMP:20191015T103755Z
URL:https://night4u.pl/wydarzenia/the-mist-oficjalne-otrzesiny-uniwersytet
 u-medycznego-11-10/
SUMMARY:The Mist: Oficjalne Otrzęsiny Uniwersytetu Medycznego // 11.10
DESCRIPTION:Oficjalne Otrzęsiny Uniwersytet Medyczny w Lublinie - UMLub! \
 n\nJuż 11 października w piątek zapraszamy na wyjątkowe wydarzenie org
 anizowane wspólnie z Samorząd Studentów Uniwersytetu Medycznego w Lubli
 nie! \n\nBilety zostały wyprzedane! Na bramce nie będzie prowadzona sprz
 edaż biletów\, wstęp jedynie z zakupionym wcześniej biletem.\n\nSpecja
 lnie dla Was przygotowaliśmy super promo na barze...\ni to przez całą n
 oc🤩\n🔹 Zimny Somerek z kija za 5  zł😎\n🔸 Wódka z Redbullem 1
 5 zł❗\n🔹 Kamikaze 4 szt 15 zł 🥳\n🔸 Gin z toniciem 18 zł 🍸
 \n🔹 Wódka z sokiem 10 zł 🍹\n\n🔥 Start 21:00 🔥\n\nDress code:
 \nElegant Casual \n\nRezerwacje miejsc / Seats &amp\; tables:\n💬 Messen
 ger \n📧 club@themistclub.eu\n☎ +48 512 375 356
ATTACH;FMTTYPE=image/jpeg:https://night4u.pl/wp-content/uploads/2019/09/67
 579_image_70907135_426434614892123_1221832111682486272_o.jpg
CATEGORIES:lubelskie
LOCATION:The Mist Club\, Okopowa 5\, Lublin\, 20-022\, Poland
GEO:51.24548;22.5559
X-APPLE-STRUCTURED-LOCATION;VALUE=URI;X-ADDRESS=Okopowa 5\, Lublin\, 20-022
 \, Poland;X-APPLE-RADIUS=100;X-TITLE=The Mist Club:geo:51.24548,22.5559
END:VEVENT
BEGIN:VTIMEZONE
TZID:Europe/Warsaw
X-LIC-LOCATION:Europe/Warsaw
BEGIN:DAYLIGHT
DTSTART:20190331T030000
TZOFFSETFROM:+0100
TZOFFSETTO:+0200
TZNAME:CEST
END:DAYLIGHT
END:VTIMEZONE
END:VCALENDAR