BEGIN:VCALENDAR
VERSION:2.0
PRODID:-//wp-events-plugin.com//7.2.3.1//EN
TZID:Europe/Warsaw
X-WR-TIMEZONE:Europe/Warsaw
BEGIN:VEVENT
UID:51262@night4u.pl
DTSTART;TZID=Europe/Warsaw:20210828T220000
DTEND;TZID=Europe/Warsaw:20210829T040000
DTSTAMP:20210827T135952Z
URL:https://night4u.pl/wydarzenia/the-music-box-4/
SUMMARY:THE MUSIC BOX
DESCRIPTION:THE MUSIC BOX to nasza klubowa alternatywa na połączenie ró
 żnych stylów muzycznych oraz najciekawszych muzycznie klimatów.\n\nZagr
 ają dla Was nasi rezydenci:\nDJ NICK / DJ TRYCOLLINS\n\nSTART: 22:00\n\nL
 ista FB  Kliknij WEZMĘ UDZIAŁ na stronie wydarzenia i od 22.00 do 23.
 00 wejście za FREE\nListę zamykamy o godzinie 20.00 !\n\nBilety: 20 pln\
 nSzatnia: --> FREE\n************************\nTHE MUSIC BOX is our club al
 ternative for a combination of various musical styles and the most interes
 ting musical climates.\n\nOur residents will play for you:\nDJ NICK / DJ T
 RYCOLLINS\n\nSTART: 22:00\n\nFB list  Click "WILL PARTICIPATE" on the e
 vent website and from 22.00 to 23.00 the entry is FREE\nWe close the list 
 at 20.00!\n\nTickets: 20 PLN\nCloakroom: -> FREE
ATTACH;FMTTYPE=image/jpeg:https://night4u.pl/wp-content/uploads/2021/08/18
 6767_image_239941739_2985830871732992_2465069553926254229_n.jpg
CATEGORIES:mazowieckie
LOCATION:N58 Club\, ul. Nowy Świat 58\, Warsaw\, 00-363\, Poland
GEO:52.235367;21.018564
X-APPLE-STRUCTURED-LOCATION;VALUE=URI;X-ADDRESS=ul. Nowy Świat 58\, Warsaw
 \, 00-363\, Poland;X-APPLE-RADIUS=100;X-TITLE=N58 Club:geo:52.235367,21.01
 8564
END:VEVENT
BEGIN:VTIMEZONE
TZID:Europe/Warsaw
X-LIC-LOCATION:Europe/Warsaw
BEGIN:DAYLIGHT
DTSTART:20210328T030000
TZOFFSETFROM:+0100
TZOFFSETTO:+0200
TZNAME:CEST
END:DAYLIGHT
END:VTIMEZONE
END:VCALENDAR