BEGIN:VCALENDAR
VERSION:2.0
PRODID:-//wp-events-plugin.com//7.2.3.1//EN
TZID:Europe/Warsaw
X-WR-TIMEZONE:Europe/Warsaw
BEGIN:VEVENT
UID:39689@night4u.pl
DTSTART;TZID=Europe/Warsaw:20200109T210000
DTEND;TZID=Europe/Warsaw:20200110T000000
DTSTAMP:20200331T202200Z
URL:https://night4u.pl/wydarzenia/the-shaggers-rocknroll-zyje/
SUMMARY:The Shaggers // Rock'n'roll żyje!
DESCRIPTION:Powracają na naszą scenę by znów porwać was do tańca. \n*
 Rock'n'roll żyje.\n\nThe Shaggers:\n-Jakub Kilen \n-Mateusz Słowiński\n
 -Andrzej Waśniewski\n-Andrzej Stagraczyński \n-Bartosz Niebielecki\n\nBi
 let: 10 pln do nabycia przed koncertem
ATTACH;FMTTYPE=image/jpeg:https://night4u.pl/wp-content/uploads/2019/12/11
 7551_image_78599508_2687715237938018_891177087962972160_o.jpg
CATEGORIES:dolnośląskie
LOCATION:Nietota\, ul.Kazimierza Wielkiego 50\, Wroclaw\, 50-078\, Poland
GEO:51.107699;17.031693
X-APPLE-STRUCTURED-LOCATION;VALUE=URI;X-ADDRESS=ul.Kazimierza Wielkiego 50\
 , Wroclaw\, 50-078\, Poland;X-APPLE-RADIUS=100;X-TITLE=Nietota:geo:51.1076
 99,17.031693
END:VEVENT
BEGIN:VTIMEZONE
TZID:Europe/Warsaw
X-LIC-LOCATION:Europe/Warsaw
BEGIN:STANDARD
DTSTART:20191027T020000
TZOFFSETFROM:+0200
TZOFFSETTO:+0100
TZNAME:CET
END:STANDARD
END:VTIMEZONE
END:VCALENDAR