BEGIN:VCALENDAR
VERSION:2.0
PRODID:-//wp-events-plugin.com//7.2.3.1//EN
TZID:Europe/Warsaw
X-WR-TIMEZONE:Europe/Warsaw
BEGIN:VEVENT
UID:4914@night4u.pl
DTSTART;TZID=Europe/Warsaw:20191006T180000
DTEND;TZID=Europe/Warsaw:20191006T230000
DTSTAMP:20190122T193620Z
URL:https://night4u.pl/wydarzenia/the-sisters-of-mercy-wroclaw-a2-6-pazdzi
 ernika-2019/
SUMMARY:The Sisters of Mercy / Wrocław\, A2 / 6 października 2019
DESCRIPTION:THE SISTERS OF MERCY\n6 października 2019\nWrocław\, Centrum 
 Koncertowe A2\n\nThe Sisters of Mercy ogłosił nową trasę koncertową! 
 Przyjadą do Polski zagrać dwa koncerty w Krakowie i Wrocławiu.\n\nInfor
 macja o biletach wkrótce.
ATTACH;FMTTYPE=image/jpeg:https://night4u.pl/wp-content/uploads/2019/01/15
 651_image_50077664_756736284692398_3233888706330886144_o.jpg
CATEGORIES:dolnośląskie
LOCATION:A2 - Centrum Koncertowe\, Góralska 5\, Wroclaw\, 53-610\, Poland
GEO:51.108613;17.001703
X-APPLE-STRUCTURED-LOCATION;VALUE=URI;X-ADDRESS=Góralska 5\, Wroclaw\, 53-
 610\, Poland;X-APPLE-RADIUS=100;X-TITLE=A2 - Centrum Koncertowe:geo:51.108
 613,17.001703
END:VEVENT
BEGIN:VTIMEZONE
TZID:Europe/Warsaw
X-LIC-LOCATION:Europe/Warsaw
BEGIN:DAYLIGHT
DTSTART:20190331T030000
TZOFFSETFROM:+0100
TZOFFSETTO:+0200
TZNAME:CEST
END:DAYLIGHT
END:VTIMEZONE
END:VCALENDAR