BEGIN:VCALENDAR
VERSION:2.0
PRODID:-//wp-events-plugin.com//7.2.3.1//EN
TZID:Europe/Warsaw
X-WR-TIMEZONE:Europe/Warsaw
BEGIN:VEVENT
UID:37027@night4u.pl
DTSTART;TZID=Europe/Warsaw:20191207T220000
DTEND;TZID=Europe/Warsaw:20191208T050000
DTSTAMP:20200401T082142Z
URL:https://night4u.pl/wydarzenia/the-very-polish-cut-outs-present-slavic-
 disco/
SUMMARY:The Very Polish Cut Outs present Slavic Disco
DESCRIPTION:🌙 The Very Polish Cut Outs W Próżności🌙\n\n Remixy pol
 skich przebojów z lat 70. i 80\, piekielnie taneczne Disco i....Europa Ws
 chodnia! \n\nŻelazna kurtyna” upadła trzy dekady temu\, ale soundtrack
  minionej epoki jest wciąż żywy w kolekcji winylowych płyt i fascynacj
 ach The Very Polish Cut Outs. Nakładem tej oficyny w 2015 roku ukazały s
 ię EP-ki „The Very Soviet Cut-Outs” i „The Very Yugo Cut-Outs”\, 
 które stanowiły dokumentację muzycznej podróży przez kraje dawnego bl
 oku wschodniego (Związku Radzieckiego i Jugosławii).\n W tym miesiącu z
 a sprawą EP-ki „The Very Eastern European Cut Outs” ta podróż nabie
 rze nowych kształtów i rumieńców\, a w Próżności będziemy celebrow
 ać jej premierę wraz z naszymi słowiańskim przyjaciółmi\, którzy do
 łożyli swoje cegiełki do powstawania tych wyżej wymienionych płyt.\n 
 Przygotujcie się na taneczne szaleństwo do muzyki z szeroko pojętej Eur
 opy wschodniej. Tej nocy\, na SLAVIC DISCO\, nie zabraknie tanecznych szla
 gierów z byłej Czechosłowacji\, krajów nadbałtyckich\, byłej Jugosł
 awii\, Węgier\, Rumunii\, NRD i oczywiście Polski.\n\n💫Sala Lustrzana
  (Slavic Disco):\nKompleks (TVPCO/20/44/Belgrad)\nSchmoltz (TVPCO/Bahnstei
 g/Grodno)\nKrjuk (TVPCO/St. Petersburg)\nZambon (TVPCO/Transatlantyk/Berli
 n)\nZisa (Kukabara Soundsystem/Poznań)\n\n\n💫Sala Szampańska:\nDj Łe
 bski i przyjaciele\n\n🌟 WEJŚCIE:\n🔑 - wstęp free\nPozostali gości
 e do 23 - 20\npo godzinie 23 - 25 PLN\n\nRezerwacje / Loże: 506203214\n\n
 Wstęp do klubu od 21 lat.
ATTACH;FMTTYPE=image/jpeg:https://night4u.pl/wp-content/uploads/2019/11/10
 2121_image_75576396_521126611952001_522078503466696704_o.jpg
CATEGORIES:wielkopolskie
LOCATION:Próżność\, Niepodległości 8a\, Poznan\, 61-875\, Poland
GEO:52.405584;16.91872
X-APPLE-STRUCTURED-LOCATION;VALUE=URI;X-ADDRESS=Niepodległości 8a\, Pozna
 n\, 61-875\, Poland;X-APPLE-RADIUS=100;X-TITLE=Próżność:geo:52.405584,
 16.91872
END:VEVENT
BEGIN:VTIMEZONE
TZID:Europe/Warsaw
X-LIC-LOCATION:Europe/Warsaw
BEGIN:STANDARD
DTSTART:20191027T020000
TZOFFSETFROM:+0200
TZOFFSETTO:+0100
TZNAME:CET
END:STANDARD
END:VTIMEZONE
END:VCALENDAR