BEGIN:VCALENDAR
VERSION:2.0
PRODID:-//wp-events-plugin.com//7.2.3.1//EN
TZID:Europe/Warsaw
X-WR-TIMEZONE:Europe/Warsaw
BEGIN:VEVENT
UID:23019@night4u.pl
DTSTART;TZID=Europe/Warsaw:20190814T200000
DTEND;TZID=Europe/Warsaw:20190815T050000
DTSTAMP:20190724T175817Z
URL:https://night4u.pl/wydarzenia/the-very-polish-cut-outs-w-plenerze/
SUMMARY:The Very Polish Cut Outs w Plenerze
DESCRIPTION:Autorzy kultowej "Krystyny" i kilkudziesięciu editów polskich
  przebojów kolejny raz w Lublinie! ⭐️\nWytwórnia The Very Polish Cut
  Outs\, która w latach 2010-2016 pozostawiła po sobie wspaniały katalog
  płyt winylowych\, cyfrowych EP-ek oraz poczucie spełnionej misji popula
 ryzacji starej i często zapomnianej polskiej muzyki\, albumem Pejzaż (au
 torstwa połówki duetu Ptaki) powróciła w zeszłym roku do wydawniczo-k
 lubowego życia. \n⭐️ Muzycznym motywem przewodnim będzie dorobek wyt
 wórni oraz szeroko pojęta muzyka polska i wschodnio-europejska.\n\n⭐
 ️ The Very Polish Cut Outs ⭐️\nhttps://soundcloud.com/polishcutouts\
 n\nstart 20\nlista fb free do 23 / 10zł\n+18\n\n@ REZERWACJE @\nWszystkie
  informacje dotyczące rezerwacji:\n601-552-013\nagata.mietelska@dklublin.
 pl\nZe względów bezpieczeństwa\, uczulamy\, żeby nie przechodzić prze
 z ulicę w niedozwolonych miejscach.
ATTACH;FMTTYPE=image/jpeg:https://night4u.pl/wp-content/uploads/2019/07/54
 388_image_67264053_2441536802569793_3042018373891260416_o.jpg
CATEGORIES:lubelskie
LOCATION:PLENER\, Aleja Józefa Piłsudskiego\, Lublin\, 20-406\, Poland
GEO:51.23623;22.565086
X-APPLE-STRUCTURED-LOCATION;VALUE=URI;X-ADDRESS=Aleja Józefa Piłsudskiego
 \, Lublin\, 20-406\, Poland;X-APPLE-RADIUS=100;X-TITLE=PLENER:geo:51.23623
 ,22.565086
END:VEVENT
BEGIN:VTIMEZONE
TZID:Europe/Warsaw
X-LIC-LOCATION:Europe/Warsaw
BEGIN:DAYLIGHT
DTSTART:20190331T030000
TZOFFSETFROM:+0100
TZOFFSETTO:+0200
TZNAME:CEST
END:DAYLIGHT
END:VTIMEZONE
END:VCALENDAR