BEGIN:VCALENDAR
VERSION:2.0
PRODID:-//wp-events-plugin.com//7.2.3.1//EN
TZID:Europe/Warsaw
X-WR-TIMEZONE:Europe/Warsaw
BEGIN:VEVENT
UID:19954@night4u.pl
DTSTART;TZID=Europe/Warsaw:20190706T230000
DTEND;TZID=Europe/Warsaw:20190707T060000
DTSTAMP:20190621T200933Z
URL:https://night4u.pl/wydarzenia/the-white-night-dj-mabu-mr-g-alexis-juli
 ett-vocal/
SUMMARY:The White Night / DJ Mabu & MR.G / Alexis Juliett (vocal)
DESCRIPTION:Welcome To White Paradise!\nSobota 6.07 zbliża się wielkimi k
 rokami a razem z nią kolejna edycja The White Night! ♥\nZapraszamy Was 
 na prawdziwe białe szaleństwo na 27 piętrze.\nTej nocy będziemy bawić
  się i tańczyć razem z Wami do wschodu słońca \;)\nDo zobaczenia!\n\n
 Welcome To White Paradise!\nWe invite you for the White Night on the roof 
 of Warsaw ♥\nLevel 27 Warsaw never gets completely dark\, on our stage\,
  there is always a star. \nGet ready for the performance of Mabu\, MR.G & 
 Alexis Juliett.\nLet's dance and party till the sunrise.\n\nMusic: Mabu & 
 MR.G\nLive music: Alexis Juliett\nFB list free till 24:00 (click "going" t
 ill 21:00)\nDress code: Casual / White Casual recommend\nDoor Policy\nEntr
 ance: 20 pln / White Casual - free entrance till 24:00\n\n*** Club Cards c
 onditions ***\nMember - free entrance + 1\nFriends - free entrance + 3\nVI
 P - free entrance + friends\nWorld’s Finest Clubs cards - free entrance 
 + 5
ATTACH;FMTTYPE=image/jpeg:https://night4u.pl/wp-content/uploads/2019/06/48
 021_image_65050814_2080217095606589_8792010814706941952_o.jpg
CATEGORIES:mazowieckie
LOCATION:Level 27 Warsaw\, Al. Jerozolimskie 123 A\, Warsaw\, 02-017\, Pola
 nd
GEO:52.22499;20.99128
X-APPLE-STRUCTURED-LOCATION;VALUE=URI;X-ADDRESS=Al. Jerozolimskie 123 A\, W
 arsaw\, 02-017\, Poland;X-APPLE-RADIUS=100;X-TITLE=Level 27 Warsaw:geo:52.
 22499,20.99128
END:VEVENT
BEGIN:VTIMEZONE
TZID:Europe/Warsaw
X-LIC-LOCATION:Europe/Warsaw
BEGIN:DAYLIGHT
DTSTART:20190331T030000
TZOFFSETFROM:+0100
TZOFFSETTO:+0200
TZNAME:CEST
END:DAYLIGHT
END:VTIMEZONE
END:VCALENDAR