BEGIN:VCALENDAR
VERSION:2.0
PRODID:-//wp-events-plugin.com//7.2.3.1//EN
TZID:Europe/Warsaw
X-WR-TIMEZONE:Europe/Warsaw
BEGIN:VEVENT
UID:44334@night4u.pl
DTSTART;TZID=Europe/Warsaw:20200215T220000
DTEND;TZID=Europe/Warsaw:20200216T040000
DTSTAMP:20200331T150023Z
URL:https://night4u.pl/wydarzenia/this-is-boom-bap-vol-7-oldschool-hip-hop
 -party/
SUMMARY:This is Boom Bap vol.7 - Oldschool Hip Hop Party
DESCRIPTION:Zapraszamy na siódmą edycję imprezy This Is Boom Bap. Gramy 
 tylko stary Hip Hop\, głównie z lat 90tych\, taki na jakim się wychowal
 iśmy. Bez mumbling raperów z dziwnymi tatuażami na twarzy i ksywkami kt
 órych nie jesteśmy w stanie wymówić.\n\nZa dekami:\nDj Stosunkowodobry
  (Toruń)\nDisco Bukkake\n\nMuzyka: Boom Bap\, Hip Hop\, East Coast\, West
  Coast\, Gangsta Rap\,  70's\, 80's &amp\; 90's Hip-Hop\, Miami Bass\, B-B
 oy's music\n\nwejście: 10zl
ATTACH;FMTTYPE=image/jpeg:https://night4u.pl/wp-content/uploads/2020/01/14
 2676_image_83341556_10156864088727671_6173040882611126272_o.jpg
CATEGORIES:łódzkie
LOCATION:DOM\, Piotrkowska 138/140\, Łódź\, 90-062\, Poland
GEO:51.761319;19.459444
X-APPLE-STRUCTURED-LOCATION;VALUE=URI;X-ADDRESS=Piotrkowska 138/140\, Łód
 ź\, 90-062\, Poland;X-APPLE-RADIUS=100;X-TITLE=DOM:geo:51.761319,19.45944
 4
END:VEVENT
BEGIN:VTIMEZONE
TZID:Europe/Warsaw
X-LIC-LOCATION:Europe/Warsaw
BEGIN:STANDARD
DTSTART:20191027T020000
TZOFFSETFROM:+0200
TZOFFSETTO:+0100
TZNAME:CET
END:STANDARD
END:VTIMEZONE
END:VCALENDAR