BEGIN:VCALENDAR
VERSION:2.0
PRODID:-//wp-events-plugin.com//7.2.3.1//EN
TZID:Europe/Warsaw
X-WR-TIMEZONE:Europe/Warsaw
BEGIN:VEVENT
UID:22970@night4u.pl
DTSTART;TZID=Europe/Warsaw:20190727T200000
DTEND;TZID=Europe/Warsaw:20190728T040000
DTSTAMP:20190724T170303Z
URL:https://night4u.pl/wydarzenia/this-is-my-house-dj-bartes-alien-x/
SUMMARY:This Is My House ! DJ Bartes & Alien X
DESCRIPTION:Zapraszamy na kolejną edycje cyklicznej imprezy THIS IS MY HOU
 SE?❤️\n\n? Bartes?\n???  Oj tak moi drodzy ! Bartes to jeden z artyst
 ów występujących na tegorocznej edycji Sunrise Festival! Komu się nie 
 udało zobaczyć jego występu w Kołobrzegu\, ma okazję nadrobić to ju
 ż w tą sobotę na THIS IS MY HOUSE w 2Be Club ??? \n\n???  Nie możecie 
 tego przegapić ??? \n\n————————————————
 ————\n\nNasza kuchnia Stek i Wino  – w każdy weekend – PIĄTE
 K i SOBOTA – czynna jest do 2:00 a.m.! ?\n\nBILETY I REZERWACJE:\n\nPani
 e 10pln \nPanowie 20pln\nWszyscy do 22:00 otrzymują od naszej uśmiechni
 ętej załogi Welcome drinka na powitanie :)\n\nW weekend obowiązują rez
 erwacje stolików. \nNasz system rezerwacji jest prosty i intuicyjny. Nie 
 znasz lokalu? Zapoznaj się z nim wchodząc na naszą stronę: www.2beclub
 .pl i zarezerwuj dogodny dla siebie stolik!\nJeżeli chcesz zapytać o wi
 ęcej szczegółów zadzwoń do nas (tel. 33 888 88 88). Nasza obsługa od
 powie na wszystkie twoje pytania.\n\nWidzimy się na parkiecie \;)
ATTACH;FMTTYPE=image/jpeg:https://night4u.pl/wp-content/uploads/2019/07/54
 284_image_67363568_2979720298736136_4064555335795343360_o.jpg
CATEGORIES:śląskie
LOCATION:2Be Club\, ul. Ratuszowa 3\, Bielsko-Biała\, 43-300\, Poland
GEO:49.82274;19.05139
X-APPLE-STRUCTURED-LOCATION;VALUE=URI;X-ADDRESS=ul. Ratuszowa 3\, Bielsko-B
 iała\, 43-300\, Poland;X-APPLE-RADIUS=100;X-TITLE=2Be Club:geo:49.82274,1
 9.05139
END:VEVENT
BEGIN:VTIMEZONE
TZID:Europe/Warsaw
X-LIC-LOCATION:Europe/Warsaw
BEGIN:DAYLIGHT
DTSTART:20190331T030000
TZOFFSETFROM:+0100
TZOFFSETTO:+0200
TZNAME:CEST
END:DAYLIGHT
END:VTIMEZONE
END:VCALENDAR