BEGIN:VCALENDAR
VERSION:2.0
PRODID:-//wp-events-plugin.com//7.2.3.1//EN
TZID:Europe/Warsaw
X-WR-TIMEZONE:Europe/Warsaw
BEGIN:VEVENT
UID:21275@night4u.pl
DTSTART;TZID=Europe/Warsaw:20190718T190000
DTEND;TZID=Europe/Warsaw:20190718T235900
DTSTAMP:20190705T031803Z
URL:https://night4u.pl/wydarzenia/thorn-karaoke-7/
SUMMARY:Thorn Karaoke #7
DESCRIPTION:Tak zaczęła się wakacyjna przygoda!\nZapraszamy na comiesię
 czne karaoke Stowarzyszenia Thorn!
ATTACH;FMTTYPE=image/jpeg:https://night4u.pl/wp-content/uploads/2019/07/50
 727_image_65700475_2275898619113834_3493577710540685312_o.jpg
CATEGORIES:kujawsko-pomorskie
LOCATION:Hipisówka\, Kopernika 20\, Torun\, 87-100\, Poland
GEO:53.0095;18.604499
X-APPLE-STRUCTURED-LOCATION;VALUE=URI;X-ADDRESS=Kopernika 20\, Torun\, 87-1
 00\, Poland;X-APPLE-RADIUS=100;X-TITLE=Hipisówka:geo:53.0095,18.604499
END:VEVENT
BEGIN:VTIMEZONE
TZID:Europe/Warsaw
X-LIC-LOCATION:Europe/Warsaw
BEGIN:DAYLIGHT
DTSTART:20190331T030000
TZOFFSETFROM:+0100
TZOFFSETTO:+0200
TZNAME:CEST
END:DAYLIGHT
END:VTIMEZONE
END:VCALENDAR