BEGIN:VCALENDAR
VERSION:2.0
PRODID:-//wp-events-plugin.com//7.2.3.1//EN
TZID:Europe/Warsaw
X-WR-TIMEZONE:Europe/Warsaw
BEGIN:VEVENT
UID:24431@night4u.pl
DTSTART;TZID=Europe/Warsaw:20190822T190000
DTEND;TZID=Europe/Warsaw:20190822T235900
DTSTAMP:20190809T215216Z
URL:https://night4u.pl/wydarzenia/thorn-karaoke-8/
SUMMARY:Thorn Karaoke #8
DESCRIPTION:Wakacje trwają w najlepsze\, a my spotykamy się na kolejnym w
 spólnym śpiewaniu w oparach cytrynowej bryzy.\nZapraszamy na comiesięcz
 ne karaoke Stowarzyszenia Thorn!
ATTACH;FMTTYPE=image/jpeg:https://night4u.pl/wp-content/uploads/2019/08/57
 500_image_67628233_2323482004355495_8012794697992896512_o.jpg
CATEGORIES:kujawsko-pomorskie
LOCATION:Hipisówka\, Kopernika 20\, Torun\, 87-100\, Poland
GEO:53.0095;18.604499
X-APPLE-STRUCTURED-LOCATION;VALUE=URI;X-ADDRESS=Kopernika 20\, Torun\, 87-1
 00\, Poland;X-APPLE-RADIUS=100;X-TITLE=Hipisówka:geo:53.0095,18.604499
END:VEVENT
BEGIN:VTIMEZONE
TZID:Europe/Warsaw
X-LIC-LOCATION:Europe/Warsaw
BEGIN:DAYLIGHT
DTSTART:20190331T030000
TZOFFSETFROM:+0100
TZOFFSETTO:+0200
TZNAME:CEST
END:DAYLIGHT
END:VTIMEZONE
END:VCALENDAR