BEGIN:VCALENDAR
VERSION:2.0
PRODID:-//wp-events-plugin.com//7.2.3.1//EN
TZID:Europe/Warsaw
X-WR-TIMEZONE:Europe/Warsaw
BEGIN:VEVENT
UID:20375@night4u.pl
DTSTART;TZID=Europe/Warsaw:20190718T200000
DTEND;TZID=Europe/Warsaw:20190718T235900
DTSTAMP:20190628T224449Z
URL:https://night4u.pl/wydarzenia/throwback-thursday-w-scenie54-lipiec-2/
SUMMARY:Throwback Thursday w Scenie54 (lipiec)
DESCRIPTION:-- For english scroll down --\nThrowback Thursday ? czyli muzyc
 zny powrót do przeszłości!\nNa czwartkowych imprezach dominują klimaty
  70/80/90\, czyli złotej ery muzyki rozrywkowej ⭐⭐⭐ Propozycja dla 
 wszystkich\, którzy z sentymentem wspominają szalone imprezy z tamtego o
 kresu oraz dla tych\, którym nieobce są klubowe klasyki \;)\n\nNawigator
 ami w podróży w czasie są:\n? Dj To-ya to rezydentka najlepszych klubó
 w na Śląsku. Swoją przygodę z DJ-ką rozpoczęła w 2010 kiedy został
 a zauważona przez znanego szerszej publiczności DJ Adamusa. Od lat bardz
 o aktywnie udziela się w przeróżnych projektach muzycznych - koncertach
 \, imprezach i teledyskach. Posiada swój charakterystyczny styl - grając
  nu funk\, r’n’b\, deep house czy urban pop zawsze porywa publicznoś
 ć do tańca.\n\n? Joobs\nzostał wychowany na muzyce przełomu lat ‘80 
 i ‘90\, który ukształtował swój gust muzyczny w oparciu o takich wyk
 onawców jak Pink Floyd\, Depeche Mode\, Dire Straits. Szuka wspólnych mi
 anowników - tempa\, tonacji\, zbieżności w tekście czy energii płyną
 cej z połączenia dwóch utworów\, dzięki której na parkiet przyciąga
  wszystkich bez wyjątku!\n\n? Arkus\nOd ponad siedmiu lat miksując za ko
 nsolą dba o to aby na parkiecie nie zabrakło dobrych sprawdzonych numer
 ów jak i nowocześniejszego brzemienia w klimatach breaks\,mashup\, regga
 e\, dnb czy electro swing. W swoich setach łącząc różne gatunki przek
 azuje pozytywną energię i na jego imprezach każdy fan dobrej muzy znajd
 zie coś dla siebie.\n\nStart: każdy czwartek od 20:00\nScena54\, Dolnych
  Młynów 10.\nRezerwacja miejsc:\n?scena54@scandale.pl\n\nZapraszamy!\n\n
 Throwback Thurdsay – a musical return to the past!\nOn our Thursday’s 
 events you have a unique chance to have fun with music from the 70’s/80
 ’s and 90’s which are the golden ages of popular music! This is a grea
 t option for those who really miss the crazy parties from past and also fo
 r that ones who loves the old but still really good club classics!\n\nYour
  navigators for this time travel are:\nDJ Toya \nShe started her adventure
  with DJ music in 2010 when she was noticed by DJ Adamus (well known to th
 e public) For years\, he has been actively involved in many music projects
  - concerts\, events and music videos. She has her characteristic style\, 
 she plays: funk\, r’n’b\, deep house or urban pop and she she always c
 an make the audience play on the dance floor.\n\nDJ Joobs grew up listenin
 g to music from the 80s and 90s\, and bands such as Pink Floyd\, Depeche M
 ode\, Dire Straits. For 10 years he’s been seeing solo events\, and he
 ’s known for his casual approach in fusing musical genres. He’s always
  looking for a common denominator – tempo\, tonality\, similarities in l
 yrics or the energy which comes from interweaving two songs. This energy m
 akes the dance floor irresistible to absolutely everyone!\n\nArkus\nA memb
 er of the live act party squad - Gryfne Synki. For over than seven years b
 ehind the console he’s been mixing & making sure that the dancefloor is 
 filled with both classics and more contemporary sounds\n\nStart: every Thu
 rsday at 8 PM\nBookings:\nscena54@scandale.pl\n\nJoin us!
ATTACH;FMTTYPE=image/jpeg:https://night4u.pl/wp-content/uploads/2019/06/48
 914_image_65733384_640736656402926_5546089066006577152_o.jpg
CATEGORIES:małopolskie
LOCATION:Scena54 - Kraków\, ul. Dolnych Młynów 10\, Kraków\, 31-124\, P
 oland
GEO:50.064736;19.926662
X-APPLE-STRUCTURED-LOCATION;VALUE=URI;X-ADDRESS=ul. Dolnych Młynów 10\, K
 raków\, 31-124\, Poland;X-APPLE-RADIUS=100;X-TITLE=Scena54 - Kraków:geo:
 50.064736,19.926662
END:VEVENT
BEGIN:VTIMEZONE
TZID:Europe/Warsaw
X-LIC-LOCATION:Europe/Warsaw
BEGIN:DAYLIGHT
DTSTART:20190331T030000
TZOFFSETFROM:+0100
TZOFFSETTO:+0200
TZNAME:CEST
END:DAYLIGHT
END:VTIMEZONE
END:VCALENDAR