BEGIN:VCALENDAR
VERSION:2.0
PRODID:-//wp-events-plugin.com//7.2.3.1//EN
TZID:Europe/Warsaw
X-WR-TIMEZONE:Europe/Warsaw
BEGIN:VEVENT
UID:49345@night4u.pl
DTSTART;TZID=Europe/Warsaw:20200312T203000
DTEND;TZID=Europe/Warsaw:20200312T230000
DTSTAMP:20200331T140359Z
URL:https://night4u.pl/wydarzenia/thursday-jazz-with-bodo-tanga/
SUMMARY:Thursday Jazz with Bodo Tanga
DESCRIPTION:Styles come and go...But CLASS never goes out of style... Disco
 ver a blend of classics and modern jazz.\n\nLive music with Free entrance.
 \n\nBODO TANGA Jazz and beyond:\n\nMarysia Kruczek - Vocals\nBartek Bąk -
  Drums\nDamian Seweryn - Keyboards\nJean-Philippe Breuil - Bass\nPiotr Per
 sona - Guitar
ATTACH;FMTTYPE=image/jpeg:https://night4u.pl/wp-content/uploads/2020/03/17
 0833_image_88184781_180092306772597_70587319358324736_o.jpg
CATEGORIES:małopolskie
LOCATION:Klub Awaria\, Mikołajska 9\, Kraków\, 31-027\, Poland
GEO:50.06133;19.94207
X-APPLE-STRUCTURED-LOCATION;VALUE=URI;X-ADDRESS=Mikołajska 9\, Kraków\, 3
 1-027\, Poland;X-APPLE-RADIUS=100;X-TITLE=Klub Awaria:geo:50.06133,19.9420
 7
END:VEVENT
BEGIN:VTIMEZONE
TZID:Europe/Warsaw
X-LIC-LOCATION:Europe/Warsaw
BEGIN:STANDARD
DTSTART:20191027T020000
TZOFFSETFROM:+0200
TZOFFSETTO:+0100
TZNAME:CET
END:STANDARD
END:VTIMEZONE
END:VCALENDAR