BEGIN:VCALENDAR
VERSION:2.0
PRODID:-//wp-events-plugin.com//7.2.3.1//EN
TZID:Europe/Warsaw
X-WR-TIMEZONE:Europe/Warsaw
BEGIN:VEVENT
UID:38409@night4u.pl
DTSTART;TZID=Europe/Warsaw:20191205T210000
DTEND;TZID=Europe/Warsaw:20191205T210000
DTSTAMP:20200401T082031Z
URL:https://night4u.pl/wydarzenia/thursday-santa-party-czarny-kot/
SUMMARY:Thursday Santa Party/Czarny Kot
DESCRIPTION:Ho ho ho! 🎅\n\nZapraszamy na mikołajkowa czwartek w Czarnym
  Kocie! 🐈\n\nNa djce Damn Lady.\n\nNa barze promki dla studentów :\nPi
 wo 🍺 6zł.\nShot naszej cytrynówki🍋/arbuzówki🍉 - 2zł\nGrant s 
 lub Sailor Jerry  + pepsi -  10zł\n\nSee ya! 😽
ATTACH;FMTTYPE=image/jpeg:https://night4u.pl/wp-content/uploads/2019/12/10
 9824_image_77349456_2715146881899932_29717720534614016_o.jpg
CATEGORIES:dolnośląskie
LOCATION:Czarny Kot Klub\, Ul. Ruska 47/48a.\, Wroclaw\, 50-079\, Poland
GEO:51.11031;17.02511
X-APPLE-STRUCTURED-LOCATION;VALUE=URI;X-ADDRESS=Ul. Ruska 47/48a.\, Wroclaw
 \, 50-079\, Poland;X-APPLE-RADIUS=100;X-TITLE=Czarny Kot Klub:geo:51.11031
 ,17.02511
END:VEVENT
BEGIN:VTIMEZONE
TZID:Europe/Warsaw
X-LIC-LOCATION:Europe/Warsaw
BEGIN:STANDARD
DTSTART:20191027T020000
TZOFFSETFROM:+0200
TZOFFSETTO:+0100
TZNAME:CET
END:STANDARD
END:VTIMEZONE
END:VCALENDAR