BEGIN:VCALENDAR
VERSION:2.0
PRODID:-//wp-events-plugin.com//7.2.3.1//EN
TZID:Europe/Warsaw
X-WR-TIMEZONE:Europe/Warsaw
BEGIN:VEVENT
UID:11274@night4u.pl
DTSTART;TZID=Europe/Warsaw:20190404T210000
DTEND;TZID=Europe/Warsaw:20190405T060000
DTSTAMP:20190329T223401Z
URL:https://night4u.pl/wydarzenia/thursday-warmup-04-04-happy-hours/
SUMMARY:Thursday Warmup // 04.04 // Happy Hours!
DESCRIPTION:W czwartek widzimy się na porządną rozgrzewkę przed weekend
 em!?\n\nCo robi każdy student w czwartkowy wieczór? Nauka? Domówka ze z
 najomymi? Nic bardziej mylnegooooo!\nW czwartki cały studencki Lublin baw
 i się w Helium Club!\n\nNajlepszy melanż z najlepszą ekipą #dorana! 
 ♥ \n\nDodatkowo mamy dla Was genialne promki na barze:\n➡️ 21:00 - 2
 2:00 - Wild Turkey +soft - 10zł \n➡️ 22.00-23.00 - Piwo Warka 0.5l - 
 4 zł \n➡️ 23.-24.00 Fruity Shots 5szt. - 10zł\n➡️ 24.00-1.00 wod
 ka+Red Bull - 12zł\n\n? DJ's:\nDJANGO\nMATT HOUSE\n\n--------------------
 ----------------------------\n⭐️ CZWARTEK ⭐️\n\nStart 21:00!\n➡
 ️ Do 24:00 lista FB wchodzi FREE\n➡️ Po 24:00 - 10 PLN\n\nLISTĘ FB 
 ZAMYKAMY O 20:00!\n\nseats & tables/ rezerwacje stolików\n☎️: 7257002
 05 (wt-sob. 17:00-20:00)\ndoor selection / 18+
ATTACH;FMTTYPE=image/jpeg:https://night4u.pl/wp-content/uploads/2019/03/29
 283_image_56457797_2292593961015773_2006287491497197568_o.jpg
CATEGORIES:lubelskie
LOCATION:Helium Club\, Hempla 5\, Lublin\, 20-008\, Poland
GEO:51.24548;22.55754
X-APPLE-STRUCTURED-LOCATION;VALUE=URI;X-ADDRESS=Hempla 5\, Lublin\, 20-008\
 , Poland;X-APPLE-RADIUS=100;X-TITLE=Helium Club:geo:51.24548,22.55754
END:VEVENT
BEGIN:VTIMEZONE
TZID:Europe/Warsaw
X-LIC-LOCATION:Europe/Warsaw
BEGIN:DAYLIGHT
DTSTART:20190331T030000
TZOFFSETFROM:+0100
TZOFFSETTO:+0200
TZNAME:CEST
END:DAYLIGHT
END:VTIMEZONE
END:VCALENDAR