BEGIN:VCALENDAR
VERSION:2.0
PRODID:-//wp-events-plugin.com//7.2.3.1//EN
TZID:Europe/Warsaw
X-WR-TIMEZONE:Europe/Warsaw
BEGIN:VEVENT
UID:28415@night4u.pl
DTSTART;TZID=Europe/Warsaw:20191018T235900
DTEND;TZID=Europe/Warsaw:20191019T120000
DTSTAMP:20191018T104707Z
URL:https://night4u.pl/wydarzenia/time2play-pres-kaj-b-day/
SUMMARY:Time2Play pres. KAJ b-day
DESCRIPTION:Tradycja\, przyjaciele\, luzztro.\noraz urodziny :D\n\nAdes\nGi
 Gi\nKaj\nKalicky\nLuke Form\nPersonal\nSanti\nTika Milano
ATTACH;FMTTYPE=image/jpeg:https://night4u.pl/wp-content/uploads/2019/09/65
 819_image_71084380_2766722526672364_8771114999947984896_o.jpg
CATEGORIES:mazowieckie
LOCATION:Luzztro\, Aleje Jerozolimskie 6\, Warsaw\, 00-374\, Poland
GEO:52.232779;21.023655
X-APPLE-STRUCTURED-LOCATION;VALUE=URI;X-ADDRESS=Aleje Jerozolimskie 6\, War
 saw\, 00-374\, Poland;X-APPLE-RADIUS=100;X-TITLE=Luzztro:geo:52.232779,21.
 023655
END:VEVENT
BEGIN:VTIMEZONE
TZID:Europe/Warsaw
X-LIC-LOCATION:Europe/Warsaw
BEGIN:DAYLIGHT
DTSTART:20190331T030000
TZOFFSETFROM:+0100
TZOFFSETTO:+0200
TZNAME:CEST
END:DAYLIGHT
END:VTIMEZONE
END:VCALENDAR