BEGIN:VCALENDAR
VERSION:2.0
PRODID:-//wp-events-plugin.com//7.2.3.1//EN
TZID:Europe/Warsaw
X-WR-TIMEZONE:Europe/Warsaw
BEGIN:VEVENT
UID:11253@night4u.pl
DTSTART;TZID=Europe/Warsaw:20190628T200000
DTEND;TZID=Europe/Warsaw:20190628T230000
DTSTAMP:20190329T221924Z
URL:https://night4u.pl/wydarzenia/tinariwen-krakow-studio/
SUMMARY:Tinariwen - Kraków - Studio
DESCRIPTION:Zapraszamy na koncert zespołu Tinariwen! Pionierzy afrykański
 ego bluesa w czerwcu powracają do Polski na dwa występy w ramach cyklu A
 frican Beats. Zespół przybędzie do Europy z materiałem ze swojej ostat
 niej płyty “Elewan”\, pojawiając się m.in. w warszawskiej Progresji
  oraz krakowskim klubie Studio.\n\nTinariwen jest malijskim zespołem muzy
 cznym\, grającym afrykańskiego bluesa\, założonym w 1982 roku w obozie
  tuareskich rebeliantów w Libii. Grupa aktywnie wspiera długoletnią wal
 kę tego saharyjskiego ludu o niezależne państwo\, koncertując regularn
 ie w krajach Europy i Ameryce Północnej. Część utworów zespołu pows
 tała w języku francuskim.\n\nTematyka poruszana w kompozycjach Tinariwen
  dotyka ważnych problemów społecznych współczesnych Tuaregów\, zwią
 zanych z porzucaniem wędrownego trybu życia\, masową migracją do miast
  północnego Sahelu i zatracaniem narodowej tożsamości koczowników. Mi
 ejscowy polityk Iyad Ag Ghali sponsorował nawet grupę w podziękowaniu z
 a jej wkład w popularyzację wiedzy o kulturze Tuaregów na świecie. For
 macja wykonuje tradycyjną muzykę afrykańskich Berberów\, pomimo wykorz
 ystania nowoczesnych instrumentów.\n\nMuzyka Tinariwen to afrykański blu
 es\, rytm tradycyjnej muzyki regionu Południowej Sahary\, dźwięki pusty
 ni. Historia grupy zaczyna się w 1982 roku w obozie Tuaregów w Libii\, t
 o stamtąd ci gitarowi poeci i duchowi rebelianci rozpoczęli swoją podr
 óż na sceny świata. Tinariwen to pierwszy zespół z tego kręgu kultur
 owego używający gitar elektrycznych\, a według Roberta Planta (Led Zepp
 elin) i Thoma Yorke'a (Radiohead)\, grupa szybko zyskała renomę\, jako z
 espół rockowy.\n\nMówi się\, że każdy Tuareg między Tamanrasset a N
 iamey\, między Timbuktu a Ghat jest członkiem zespołu. Struktura Tinari
 wen jest otwarta i bardziej podobna do społeczności niż zespołu muzycz
 nego. W 2001 roku o grupie stało się głośno za sprawą występów na n
 iesamowitym festiwalu na pustyni\, którego byli gwiazdą\, a także dzię
 ki występom na WOMAD i Roskilde. Europę zdobyli unikalnym połączeniem 
 elektrycznego bluesa z tradycyjną muzyką Nomadów. Do tej pory nikt nie 
 połączył tak różnych kultur w tak zrozumiały i przyswajalny sposób.
  Słuchając ich nagrań uzyskujemy potwierdzenie\, że niezależnie od sz
 erokości geograficznej pod którą żyjemy uczucia takie\, jak smutek czy
  tęsknota odczuwane są w podobny sposób i nie ma znaczenia\, jak nazywa
  się muzykę przy której o nich się śpiewa. \n\nPierwszy studyjny albu
 m Tinariwen - "The Radio Tisdas Sessions" ukazał się na CD w 2002\, jedn
 akże zespół ma na swoim koncie sporą liczbę amatorsko rejestrowanych 
 kaset. Druga płyta zespołu zatytułowana "Amassakoul" ("Podróżnik") pr
 zyniosła tej formacji międzynarodowy rozgłos i zaowocowała koncertami 
 na całym świecie\, m.in . na festiwalu Roskilde czy u boku Carlosa Santa
 ny i The Rolling Stones. Podczas 54. gali nagród Grammy\, album grupy "Ta
 ssiili" otrzymał tytuł "Płyty World Music Roku". Zespół wydał nastę
 pnie dwie kolejne\, równie znakomicie przyjęte płyty “Emmar” (2014)
  oraz “Elewan” (2017). Ostatnia płyta zespołu również była nomino
 wana do nagrody Grammy w kategorii “Best World Music Album”. Zespół 
 na koncertach w Polsce wykona w dużej mierze utwory z ich ostatniego albu
 mu\, choć nie powinno zabraknąć również kawałków ze starszych płyt
 . Szykujcie się na potężny\, subsaharyjski podmuch gorącego powietrza!
 \nTinariwen - Kraków - 28.06.2019 r. - Klub Studio - godz. 20.00\nTinariw
 en - Warszawa - 29.06.2019 r. - Klub Progresja - godz. 20.00\n\nBilety w s
 przedaży od 1 kwietnia w bileterii Interticket.pl\n\nOrganizator:\nAgencj
 a Artystyczna Perspektywy\nwww.agencjaperspektywy.pl\n\nKontakt:\nbiuro@ag
 encjaperspektywy.pl
ATTACH;FMTTYPE=image/jpeg:https://night4u.pl/wp-content/uploads/2019/03/29
 239_image_55793525_2129769800451267_150544101282938880_o.jpg
CATEGORIES:małopolskie
LOCATION:Klub Studio\, Budryka 4\, Kraków\, 30-072\, Poland
GEO:50.068057;19.908264
X-APPLE-STRUCTURED-LOCATION;VALUE=URI;X-ADDRESS=Budryka 4\, Kraków\, 30-07
 2\, Poland;X-APPLE-RADIUS=100;X-TITLE=Klub Studio:geo:50.068057,19.908264
END:VEVENT
BEGIN:VTIMEZONE
TZID:Europe/Warsaw
X-LIC-LOCATION:Europe/Warsaw
BEGIN:DAYLIGHT
DTSTART:20190331T030000
TZOFFSETFROM:+0100
TZOFFSETTO:+0200
TZNAME:CEST
END:DAYLIGHT
END:VTIMEZONE
END:VCALENDAR