BEGIN:VCALENDAR
VERSION:2.0
PRODID:-//wp-events-plugin.com//7.2.3.1//EN
TZID:Europe/Warsaw
X-WR-TIMEZONE:Europe/Warsaw
BEGIN:VEVENT
UID:7213@night4u.pl
DTSTART;TZID=Europe/Warsaw:20190228T190000
DTEND;TZID=Europe/Warsaw:20190301T020000
DTSTAMP:20190213T181022Z
URL:https://night4u.pl/wydarzenia/tluste-after-party/
SUMMARY:Tłuste After Party
DESCRIPTION:Zapraszamy wszystkich studentów PWSZ w Elblągu na wspólną r
 egenerację po sesji :D W dodatku uczcijmy słynny Tłusty Czwartek! 
ATTACH;FMTTYPE=image/jpeg:https://night4u.pl/wp-content/uploads/2019/02/20
 745_image_51998506_2078671898910679_7713057683548405760_o.jpg
CATEGORIES:pomorskie
LOCATION:Rada Studentów PWSZ w  Elblągu\, Dom Studencki nr 2 (pok. 03)  u
 l. Wspólna 11-13\, Elblag\, 82-300\, Poland
GEO:54.1667;19.3833
X-APPLE-STRUCTURED-LOCATION;VALUE=URI;X-ADDRESS=Dom Studencki nr 2 (pok. 03
 )  ul. Wspólna 11-13\, Elblag\, 82-300\, Poland;X-APPLE-RADIUS=100;X-TITL
 E=Rada Studentów PWSZ w  Elblągu:geo:54.1667,19.3833
END:VEVENT
BEGIN:VTIMEZONE
TZID:Europe/Warsaw
X-LIC-LOCATION:Europe/Warsaw
BEGIN:STANDARD
DTSTART:20181028T020000
TZOFFSETFROM:+0200
TZOFFSETTO:+0100
TZNAME:CET
END:STANDARD
END:VTIMEZONE
END:VCALENDAR