BEGIN:VCALENDAR
VERSION:2.0
PRODID:-//wp-events-plugin.com//7.2.3.1//EN
TZID:Europe/Warsaw
X-WR-TIMEZONE:Europe/Warsaw
BEGIN:VEVENT
UID:33498@night4u.pl
DTSTART;TZID=Europe/Warsaw:20191029T200000
DTEND;TZID=Europe/Warsaw:20191029T235900
DTSTAMP:20191028T154755Z
URL:https://night4u.pl/wydarzenia/tlusty-jam-tuesday-jam-nagrywamy/
SUMMARY:Tłusty Jam // Tuesday Jam - Nagrywamy
DESCRIPTION:Zapraszamy na wyjątkowy Tłusty Jam. Będziemy rejestrować ca
 ła sesję jamu w celach promo :) Zapraszamy każdego ktoś chce bez skrę
 powania sobie pograć w miłym towarzystwie :)\n\nDysponujemy perkusją\, 
 nagłośnieniem zarówno wokalu\, gitary jak i basu\, oraz możliwością 
 wpięcia dodatkowych instrumentów w linię.\n----------------------------
 --------------------------------------------------------------\nWe are hap
 py to annouce that this week\, jam session will be recorded for the event 
 promotion purpose :) If Marcin will find some pieces good enough to mix. H
 e loves to complain\, and probably won't read this :)\n\nAs usual we provi
 de: drumkit\, backline (mic\, one guitar amp and bass amp). There is also 
 posibility to plug some other instruments in line.
ATTACH;FMTTYPE=image/jpeg:https://night4u.pl/wp-content/uploads/2019/10/84
 157_image_74907703_2768637093160141_6864656434039095296_n.jpg
CATEGORIES:dolnośląskie
LOCATION:Alive\, ul. Kolejowa 12\, Wroclaw\, 53-508\, Poland
GEO:51.10138;17.02286
X-APPLE-STRUCTURED-LOCATION;VALUE=URI;X-ADDRESS=ul. Kolejowa 12\, Wroclaw\,
  53-508\, Poland;X-APPLE-RADIUS=100;X-TITLE=Alive:geo:51.10138,17.02286
END:VEVENT
BEGIN:VTIMEZONE
TZID:Europe/Warsaw
X-LIC-LOCATION:Europe/Warsaw
BEGIN:STANDARD
DTSTART:20191027T020000
TZOFFSETFROM:+0200
TZOFFSETTO:+0100
TZNAME:CET
END:STANDARD
END:VTIMEZONE
END:VCALENDAR