BEGIN:VCALENDAR
VERSION:2.0
PRODID:-//wp-events-plugin.com//7.2.3.1//EN
TZID:Europe/Warsaw
X-WR-TIMEZONE:Europe/Warsaw
BEGIN:VEVENT
UID:39335@night4u.pl
DTSTART;TZID=Europe/Warsaw:20191214T210000
DTEND;TZID=Europe/Warsaw:20191215T060000
DTSTAMP:20191214T230838Z
URL:https://night4u.pl/wydarzenia/tom-forester-w-masce/
SUMMARY:Tom Forester w Masce!
DESCRIPTION:Yeah! Wasz ulubieniec znowu w Masce!\nBłyskotliwy Tom Forester
  zagra na naszej scenie po raz kolejny ♥\nMożecie spodziewać się gł
 ębokich housowych brzmień i autorskich mush-upów! Czyli tego\, co masko
 we tygryski lubią najbardziej! :)\nRezerwujcie stoliki! Będzie ogień!\n
 emenago.com/i/maskakielce\n\nTom Forester to bardzo aktywny DJ\, remixer\,
  kompozytor i producent muzyczny. Oficjalny DJ rezydent klubu Pacha Pozna
 ń. Jego kariera muzyczna rozpoczęła się w 2002 roku\, od tego czasu pr
 zebrnął przez wiele projektów\, stylów muzycznych i kolaboracji. Jest 
 współzałożycielem znanego na scenie housowej projektu Groovefore\, kt
 órego utwory rozbrzmiewają w największych klubach na całym świecie. J
 ego wieloletnie doświadczenie i innowacyjne podejście do produkcji muzyk
 i\, pozwoliły bardzo szybko zagościć na stałe w czołówce sceny muzyk
 i house. \n\nW każdy weekend robi to co kocha najbardziej – występuje 
 dla ludzi w najlepszych polskich klubach muzycznych. Jako DJ odwiedził na
 jwiększe polskie miasta\, został zaproszony na muzyczne wydarzenia do ta
 kich państw jak Niemcy\, Czechy\, Węgry\, Rosja\, Litwa\, Malta.\n\nWyst
 ąpił także na największych znaczących polskich festiwalach muzycznych
  takich jak Sunrise Festival\, Sensation White\, Global Gathering\, ATB in
  Concert. Jako producent muzyczny wyprodukował remixy do takich artystów
  jak Calvin Harris\, Duke Dumont\, Martin Solveig\, Alan Walker\, Sigala\,
  C-Bool\, Bob Sinclar\, Armand van Helden\, Clean Bandit.\nW swojej karier
 ze muzycznej dzielił scenę z takimi gwiazdami i ikonami muzyki elektroni
 cznej jak David Guetta\, ATB\, Carl Cox\, Cosmic Gate\, Eric Prydz\, Olive
 r Heldens\, Dimitri Vegas &amp\; Like Mike\, Bassjackers\, Chocolate Puma\
 , Fedde Le Grand\, Deadmau5. Odwiedził najpopularniejsze polskie imprezow
 e miejsca\, a co tydzień można posłuchać jego live setów w najlepszyc
 h polskich klubach.\n♥
ATTACH;FMTTYPE=image/jpeg:https://night4u.pl/wp-content/uploads/2019/12/11
 5326_image_78689345_2763828407017588_9216368843570544640_o.jpg
CATEGORIES:świętokrzyskie
LOCATION:MASKA Incognito Club\, Rynek 5\, Kielce\, 25-303\, Poland
GEO:50.871945;20.632092
X-APPLE-STRUCTURED-LOCATION;VALUE=URI;X-ADDRESS=Rynek 5\, Kielce\, 25-303\,
  Poland;X-APPLE-RADIUS=100;X-TITLE=MASKA Incognito Club:geo:50.871945,20.6
 32092
END:VEVENT
BEGIN:VTIMEZONE
TZID:Europe/Warsaw
X-LIC-LOCATION:Europe/Warsaw
BEGIN:STANDARD
DTSTART:20191027T020000
TZOFFSETFROM:+0200
TZOFFSETTO:+0100
TZNAME:CET
END:STANDARD
END:VTIMEZONE
END:VCALENDAR