BEGIN:VCALENDAR
VERSION:2.0
PRODID:-//wp-events-plugin.com//7.2.3.1//EN
TZID:Europe/Warsaw
X-WR-TIMEZONE:Europe/Warsaw
BEGIN:VEVENT
UID:50385@night4u.pl
DTSTART;TZID=Europe/Warsaw:20200816T190000
DTEND;TZID=Europe/Warsaw:20200816T220000
DTSTAMP:20200807T183607Z
URL:https://night4u.pl/wydarzenia/tomek-karolak-bartek-miecznikowski-czyli
 -paczki-w-tluszczu/
SUMMARY:Tomek Karolak\, Bartek Miecznikowski czyli "Pączki w Tłuszczu"
DESCRIPTION:Mamy przyjemność zaprosić Was na spotkanie z Tomkiem Karolak
 iem (!we własnej osobie!)\, Bartkiem Miecznikowskim i ich kapelą.  Pącz
 ki W Tłuszczu-Tomasz Karolak i Bartosz Miecznikowski po raz pierwszy na n
 aszej scenie! Posłuchajcie\, jak brzmią na żywo. Zaplanujcie wspaniał
 ą niedzielę w doborowym towarzystwie :-) Wstęp wolny.\nPodajcie dalej!
ATTACH;FMTTYPE=image/jpeg:https://night4u.pl/wp-content/uploads/2020/08/18
 3976_image_114413743_3346061725456365_6434113049929401087_n.jpg
CATEGORIES:mazowieckie
LOCATION:Chata Trapera-Przystanek Tarchomin\, ul. Sprawna przy wale wiślan
 ym\, Warsaw\, 03-134\, Poland
GEO:52.34033;20.929619
X-APPLE-STRUCTURED-LOCATION;VALUE=URI;X-ADDRESS=ul. Sprawna przy wale wiśl
 anym\, Warsaw\, 03-134\, Poland;X-APPLE-RADIUS=100;X-TITLE=Chata Trapera-P
 rzystanek Tarchomin:geo:52.34033,20.929619
END:VEVENT
BEGIN:VTIMEZONE
TZID:Europe/Warsaw
X-LIC-LOCATION:Europe/Warsaw
BEGIN:DAYLIGHT
DTSTART:20200329T030000
TZOFFSETFROM:+0100
TZOFFSETTO:+0200
TZNAME:CEST
END:DAYLIGHT
END:VTIMEZONE
END:VCALENDAR