BEGIN:VCALENDAR
VERSION:2.0
PRODID:-//wp-events-plugin.com//7.2.3.1//EN
TZID:Europe/Warsaw
X-WR-TIMEZONE:Europe/Warsaw
BEGIN:VEVENT
UID:51210@night4u.pl
DTSTART;TZID=Europe/Warsaw:20210827T235900
DTEND;TZID=Europe/Warsaw:20210828T070000
DTSTAMP:20210827T133032Z
URL:https://night4u.pl/wydarzenia/tone-treatment-2-foxall-kinkyoutsider/
SUMMARY:Tone Treatment #2: Foxall\, KinkyOutsider
DESCRIPTION:Prozak przestaje działać? Rano łykasz Modafinil na efektywno
 ść\, a wieczorem Hydroksyzynę na sen? Zwolnij\, daj sobie odetchnąć i
  przyjdź na pierwsze spotkanie eksperymentalnej terapii grupowej skupione
 j wokół muzyki 4x4.\nTone Treatment to nowy cykl wydarzeń\, podczas kt
 órych usłyszycie najlepszą selekcję kojących dźwięków - od orientu
 \, przez progresive i deep house aż po ciężkie techno. Pomysłodawca cy
 klu - Kinky\, każdorazowo zaprasza do 2.0 DJs z całej Polski\, którzy s
 ą dla niego inspiracją i mogą poszczycić się nie tylko świetnymi ski
 llsami w mixowaniu\, ale także umiejętnością budowania klimatu i snuci
 a opowieści\, które pomogą Wam ukoić skołatane nerwy. Klimat będzie 
 się zmieniał z edycji na edycję\, ale możecie być pewni\, że naładu
 jecie swoje banki serotoniny i endorfin na cały kolejny tydzień ❤\n\n
 📀  Foxall\nhttps://soundcloud.com/foxallmusic\nhttps://www.youtube.com/
 channel/UC-NPcdk4Usnp_JAjG5syXNQ?view_as=subscriber\n\n🌚 KinkyOutsider\
 n\nSocial:\nhttps://soundcloud.com/foxallmusic\nhttps://www.facebook.com/f
 oxallmusic\n---\nStart 23:59 w piątek\, koniec około 7:00. Soundsystem: 
 Funktion1\nWejście: 20/30 PLN* - Karty klubowe 10 PLN i możliwość omin
 ięcia kolejki\n*Cena uzależniona jest od ilości osób w klubie ze wzgl
 ędu na restrykcje rządowe\n\nNO PHOTO POLICY\, RESPECT THE VIBE ❌\nFor
  more info or english version\, please check the event on the Resident Adv
 isor's page.
ATTACH;FMTTYPE=image/jpeg:https://night4u.pl/wp-content/uploads/2021/08/18
 6653_image_237069847_4319700824757300_492240062904746223_n.jpg
CATEGORIES:małopolskie
LOCATION:Prozak 2.0\, Plac Dominikański 6\, Kraków\, 31-032\, Poland
GEO:50.058986;19.938203
X-APPLE-STRUCTURED-LOCATION;VALUE=URI;X-ADDRESS=Plac Dominikański 6\, Krak
 ów\, 31-032\, Poland;X-APPLE-RADIUS=100;X-TITLE=Prozak 2.0:geo:50.058986,
 19.938203
END:VEVENT
BEGIN:VTIMEZONE
TZID:Europe/Warsaw
X-LIC-LOCATION:Europe/Warsaw
BEGIN:DAYLIGHT
DTSTART:20210328T030000
TZOFFSETFROM:+0100
TZOFFSETTO:+0200
TZNAME:CEST
END:DAYLIGHT
END:VTIMEZONE
END:VCALENDAR