BEGIN:VCALENDAR
VERSION:2.0
PRODID:-//wp-events-plugin.com//7.2.3.1//EN
TZID:Europe/Warsaw
X-WR-TIMEZONE:Europe/Warsaw
BEGIN:VEVENT
UID:5974@night4u.pl
DTSTART;TZID=Europe/Warsaw:20190309T210000
DTEND;TZID=Europe/Warsaw:20190310T060000
DTSTAMP:20190206T194326Z
URL:https://night4u.pl/wydarzenia/transgraniczny-kreep-beat-l-%d0%b0%d0%b1
 %d0%b5%d0%ba%d1%82-by/
SUMMARY:Transgraniczny: Kreep\, Beat L (Аб'ект\, BY)
DESCRIPTION:Przedstawiciele grodzieńskiej undergroundowej sceny Kreep i Be
 at L znów zagoszczą u nas w Białymstoku.  \nZdążyliśmy już pozać i
 ch energię uczestnicząc w zeszłorocznej edycji Taste The East. Lineup d
 opełni Dimmind\, członek ekipy Tribalanga Festival - nasz przyjaciel z G
 rodna. \n\nLineup\n❃ Beat L (Аб'ект\, Grodno)\n\n❃ Kreep (Аб'е
 кт\, Grodno) \n \n❃ Dimmind (Tribalanga Festival\, Grodno)\n❃ MIFI (
 Tribalanga Festival/ KLUB METRO)\nhttps://www.mixcloud.com/mifideltasigma/
 \n\nProjekt Kreep i Beat L - Аб'ект\nhttps://www.facebook.com/objectg
 rodno/\n
ATTACH;FMTTYPE=image/jpeg:https://night4u.pl/wp-content/uploads/2019/01/17
 965_image_50952718_10156142460696985_7151710345633988608_o.jpg
CATEGORIES:podlaskie
LOCATION:KLUB METRO\, Białówny 9/1\, Białystok\, 15-437\, Poland
GEO:53.13331;23.156827
X-APPLE-STRUCTURED-LOCATION;VALUE=URI;X-ADDRESS=Białówny 9/1\, Białystok
 \, 15-437\, Poland;X-APPLE-RADIUS=100;X-TITLE=KLUB METRO:geo:53.13331,23.1
 56827
END:VEVENT
BEGIN:VTIMEZONE
TZID:Europe/Warsaw
X-LIC-LOCATION:Europe/Warsaw
BEGIN:STANDARD
DTSTART:20181028T020000
TZOFFSETFROM:+0200
TZOFFSETTO:+0100
TZNAME:CET
END:STANDARD
END:VTIMEZONE
END:VCALENDAR