BEGIN:VCALENDAR
VERSION:2.0
PRODID:-//wp-events-plugin.com//7.2.3.1//EN
TZID:Europe/Warsaw
X-WR-TIMEZONE:Europe/Warsaw
BEGIN:VEVENT
UID:27454@night4u.pl
DTSTART;TZID=Europe/Warsaw:20190920T220000
DTEND;TZID=Europe/Warsaw:20190921T050000
DTSTAMP:20190914T105421Z
URL:https://night4u.pl/wydarzenia/trapstory-x-dj-war-monika-rollin/
SUMMARY:Trapstory x DJ War & Monika Rollin
DESCRIPTION:Wasza ulubiona impreza dedykowana trapom powraca! Wrześniowe T
 rapstory poprowadzą DJ WAR oraz Monika Rollin.\n\n20.09\nPatio: 20:00\nPa
 rty: 22:00\nWstęp 5zł\nLista FB free do 24.00\n\n-\n\nWstęp do klubu za
  okazaniem dokumentu potwierdzającego pełnoletność.\n\nOpłata za wst
 ęp nie upoważnia do kolejnego wejścia tego samego wieczoru bez płaceni
 a na imprezę.\n\nKażdy uczestnik wydarzenia jest zobowiązany zapoznać 
 się z nowym regulaminem Klubu Rura.
ATTACH;FMTTYPE=image/jpeg:https://night4u.pl/wp-content/uploads/2019/09/63
 918_image_71101691_2990828094320854_3634022277831458816_o.jpg
CATEGORIES:śląskie
LOCATION:Klub Rura\, Aleja Najświętszej Maryi Panny 38\, Czestochowa\, 42
 -202\, Poland
GEO:50.81223;19.115088
X-APPLE-STRUCTURED-LOCATION;VALUE=URI;X-ADDRESS=Aleja Najświętszej Maryi 
 Panny 38\, Czestochowa\, 42-202\, Poland;X-APPLE-RADIUS=100;X-TITLE=Klub R
 ura:geo:50.81223,19.115088
END:VEVENT
BEGIN:VTIMEZONE
TZID:Europe/Warsaw
X-LIC-LOCATION:Europe/Warsaw
BEGIN:DAYLIGHT
DTSTART:20190331T030000
TZOFFSETFROM:+0100
TZOFFSETTO:+0200
TZNAME:CEST
END:DAYLIGHT
END:VTIMEZONE
END:VCALENDAR