BEGIN:VCALENDAR
VERSION:2.0
PRODID:-//wp-events-plugin.com//7.2.3.1//EN
TZID:Europe/Warsaw
X-WR-TIMEZONE:Europe/Warsaw
BEGIN:VEVENT
UID:10084@night4u.pl
DTSTART;TZID=Europe/Warsaw:20190331T190000
DTEND;TZID=Europe/Warsaw:20190331T213000
DTSTAMP:20190316T195908Z
URL:https://night4u.pl/wydarzenia/tribute-to-adele-bunkier-gdansk/
SUMMARY:Tribute to Adele / Bunkier / Gdańsk
DESCRIPTION:Koncert w hołdzie twórczości Adele. Przebojowy repertuar Ade
 le w specjalnie przygotowanych aranżacjach. \n\nŚwietne tempo\, energia 
 przeplatana z nostalgią\, potężny głos i uwielbiane piosenki. Marta Po
 dulka\, wokalistka o ciemnej soulowej barwie głosu. Znana z przebojów ra
 diowych "Nieodkryty Ląd"\, "Mocna"\, "Nie Przeszkadzać" . Zdobywczyni 3 
 miejsca w 4 edycji "Mam Talent"\, wyróżniona w konkursie Debiuty 50-tego
  festiwalu w Opolu tym razem przejdzie metamorfozę i wcieli się w niesam
 owitą Adele!\n\nPODULCE na scenie towarzyszy  zespół:\nBartek Pietsch -
  bas\nGrzegorz Piotrowski - gitary\nJan Sawiński - piano\nWaldek Franczyk
  - perkusja\n\n———————————————————
 ———————\n\nBILETY:\nPierwsza pula - 39zł (tylko 100 biletó
 w)\nDruga pula - 49zł (dostępne do wyczerpania)\n\nDo nabycia:\n→ Codz
 iennie od 17:00 w Klubogalerii Bunkier [ul.Olejarna 3\, Gdańsk]\n→ ON L
 INE przelew na konto klubu:\nBunkier S.C. ul.Olejarna 3\, Gdańsk\n41 1090
  2590 0000 0001 3023 6697\nW tytule prosimy wpisać (przykład)\n"Adele + 
 imię i nazwisko 2os"\n\nhttp://facebook.com/Bunkierclub\nul.Olejarna 3\, 
 \notwieramy dolne piętra o 17:00\nbramy o 18:30\nRezerwacje:\nrezerwacje@
 bunkierclub.pl\n530 917 788\n\nPatronat: \nRadio Eska\nPitu Pitu Trójmias
 to\nTrojmiasto.pl\n\n—————————————————
 —————————\n\nThere's a fire starting in my heart...
ATTACH;FMTTYPE=image/jpeg:https://night4u.pl/wp-content/uploads/2019/03/26
 666_image_53306897_2084629361573107_4420473400099602432_o.jpg
CATEGORIES:pomorskie
LOCATION:Bunkier\, Olejarna 3\, Gdansk\, 80-843\, Poland
GEO:54.35446;18.65466
X-APPLE-STRUCTURED-LOCATION;VALUE=URI;X-ADDRESS=Olejarna 3\, Gdansk\, 80-84
 3\, Poland;X-APPLE-RADIUS=100;X-TITLE=Bunkier:geo:54.35446,18.65466
END:VEVENT
BEGIN:VTIMEZONE
TZID:Europe/Warsaw
X-LIC-LOCATION:Europe/Warsaw
BEGIN:DAYLIGHT
DTSTART:20190331T030000
TZOFFSETFROM:+0100
TZOFFSETTO:+0200
TZNAME:CEST
END:DAYLIGHT
END:VTIMEZONE
END:VCALENDAR