BEGIN:VCALENDAR
VERSION:2.0
PRODID:-//wp-events-plugin.com//7.2.3.1//EN
TZID:Europe/Warsaw
X-WR-TIMEZONE:Europe/Warsaw
BEGIN:VEVENT
UID:1474@night4u.pl
DTSTART;TZID=Europe/Warsaw:20190523T193000
DTEND;TZID=Europe/Warsaw:20190524T000000
DTSTAMP:20181228T235321Z
URL:https://night4u.pl/wydarzenia/tribute-to-dio-rainbow-black-sabbath-dio
 -king-of-rock-and-2/
SUMMARY:Tribute to Dio (Rainbow\, Black Sabbath\, DIO) - King of Rock And
DESCRIPTION:Zapraszamy zatem na szóstą już edycję Memoriału DIO - "Kin
 g of Rock and Roll". To trasa koncertowa poświęcona pamięci Ronniego Ja
 mesa Dio\, zmarłego w 2010 r. wokalisty Black Sabbath. Rainbow\, czy DIO.
  9 muzyków z 4 różnych polskich zespołów* oraz goście specjalni łą
 czą siły\, by dać niemal trzygodzinny koncert pełen znanych i mniej zn
 anych utworów artysty. Nie zabraknie hitów takich\, jak "Holy Diver"\, c
 zy "Heaven and Hell"! Listę gości znajdziecie wkrótce w tym wydarzeniu 
 oraz na oficjalnym fanpage'u memoriału. Bilety dostępne online na goout.
 pl oraz w klubach (od lutego 2019 r.)\n\nBilety: 30 zł - przedsprzedaż/ 
 40 zł - dzień koncertu\n\n*Drużynę memoriału\, która pojawia się w 
 każdym mieście tworzą członkowie Scream Maker\, Mirek Skorupski (klawi
 sze\, White Highway)\, Dawid Pięta (gitara)\,  Norman Power z Another Pin
 k Floyd i Maciek Szulc Priv Royal Acoustic.
ATTACH;FMTTYPE=image/jpeg:https://night4u.pl/wp-content/uploads/2018/12/68
 41_image_48425688_2252423008359850_7745243073247969280_o.jpg
CATEGORIES:dolnośląskie
LOCATION:Klub Muzyczny Liverpool\, Świdnicka 37\, Wroclaw\, 50-029\, Polan
 d
GEO:51.10401;17.03035
X-APPLE-STRUCTURED-LOCATION;VALUE=URI;X-ADDRESS=Świdnicka 37\, Wroclaw\, 5
 0-029\, Poland;X-APPLE-RADIUS=100;X-TITLE=Klub Muzyczny Liverpool:geo:51.1
 0401,17.03035
END:VEVENT
BEGIN:VTIMEZONE
TZID:Europe/Warsaw
X-LIC-LOCATION:Europe/Warsaw
BEGIN:DAYLIGHT
DTSTART:20190331T030000
TZOFFSETFROM:+0100
TZOFFSETTO:+0200
TZNAME:CEST
END:DAYLIGHT
END:VTIMEZONE
END:VCALENDAR