BEGIN:VCALENDAR
VERSION:2.0
PRODID:-//wp-events-plugin.com//7.2.3.1//EN
TZID:Europe/Warsaw
X-WR-TIMEZONE:Europe/Warsaw
BEGIN:VEVENT
UID:1460@night4u.pl
DTSTART;TZID=Europe/Warsaw:20190530T190000
DTEND;TZID=Europe/Warsaw:20190530T230000
DTSTAMP:20181228T234513Z
URL:https://night4u.pl/wydarzenia/tribute-to-dio-rainbow-black-sabbath-dio
 -king-of-rock-and/
SUMMARY:Tribute to Dio (Rainbow\, Black Sabbath\, DIO) - King of Rock And
DESCRIPTION:Zapraszamy zatem na szóstą już edycję Memoriału DIO - "Kin
 g of Rock and Roll". To trasa koncertowa poświęcona pamięci Ronniego Ja
 mesa Dio\, zmarłego w 2010 r. wokalisty Black Sabbath. Rainbow\, czy DIO.
  9 muzyków z 4 różnych polskich zespołów* oraz goście specjalni łą
 czą siły\, by dać niemal trzygodzinny koncert pełen znanych i mniej zn
 anych utworów artysty. Nie zabraknie hitów takich\, jak "Holy Diver"\, c
 zy "Heaven and Hell"! Listę gości znajdziecie wkrótce w tym wydarzeniu 
 oraz na oficjalnym fanpage'u memoriału. Bilety dostępne online na goout.
 pl oraz w klubach (od lutego 2019 r.)\n\nCeny biletów: 30/40 zł - przeds
 przedaż/dzień koncertu\n\n*Drużynę memoriału\, która pojawia się w 
 każdym mieście tworzą członkowie Scream Maker\, Mirek Skorupski (klawi
 sze\, White Highway)\, Dawid Pięta (gitara)\,  Norman Power z Another Pin
 k Floyd i Maciek Szulc Priv Royal Acoustic.
ATTACH;FMTTYPE=image/jpeg:https://night4u.pl/wp-content/uploads/2018/12/68
 11_image_48921745_2252424481693036_1738875698002526208_o.jpg
CATEGORIES:lubelskie
LOCATION:Klub Graffiti\, Al. Piłsudskiego 13\, Lublin\, 20-011\, Poland
GEO:51.240318;22.557165
X-APPLE-STRUCTURED-LOCATION;VALUE=URI;X-ADDRESS=Al. Piłsudskiego 13\, Lubl
 in\, 20-011\, Poland;X-APPLE-RADIUS=100;X-TITLE=Klub Graffiti:geo:51.24031
 8,22.557165
END:VEVENT
BEGIN:VTIMEZONE
TZID:Europe/Warsaw
X-LIC-LOCATION:Europe/Warsaw
BEGIN:DAYLIGHT
DTSTART:20190331T030000
TZOFFSETFROM:+0100
TZOFFSETTO:+0200
TZNAME:CEST
END:DAYLIGHT
END:VTIMEZONE
END:VCALENDAR