BEGIN:VCALENDAR
VERSION:2.0
PRODID:-//wp-events-plugin.com//7.2.3.1//EN
TZID:Europe/Warsaw
X-WR-TIMEZONE:Europe/Warsaw
BEGIN:VEVENT
UID:14191@night4u.pl
DTSTART;TZID=Europe/Warsaw:20190517T200000
DTEND;TZID=Europe/Warsaw:20190517T220000
DTSTAMP:20190503T202256Z
URL:https://night4u.pl/wydarzenia/tribute-to-iron-maiden-blood-brothers-ra
 dom/
SUMMARY:Tribute to Iron Maiden\, Blood Brothers\, Radom
DESCRIPTION:17.05.2019 (Piątek)\, Brama: 19:30\, start: 20:00\nKlub Strefa
  G2\, ul. Przemysłowa 20\, Radom \n? HulaPark - ul.Przemysłowa 18(Obok G
 2)\, tel. 48 381 09 94\n\nBlood Brothers\nNasi sąsiedzi z Ukrainy\, cierp
 iąc głód koncertów swoich brytyjskich idoli w tej części kontynentu 
 \, postanowili wziąć gitary w swoje ręce i przynajmniej częściowo zas
 pokoić potrzebę "pogo do Iron Maiden". I wyszło im to tak dobrze\, nosz
 ą oficjalnie zatwierdzone miano "official Iron Maiden tribute band"! Ich 
 koncerty to doskonała warsztatowo heavymetalowa petarda\, która rozrusza
  nawet nieboszczyka. Ich występ to także spektakularne sceniczne show pr
 zy muzyce Iron Maiden\, która dla tych pięciu chłopaków sprawia niesam
 owitą radość. Atmosfera\, którą potrafią stworzyć na scenie daje ni
 esamowite uczucie bycia częścią prawdziwego występu brytyjskich legend
  z czym\, że w bardziej kameralnych okolicznościach. Na koniec dodać na
 leży\, że chłopaki mieli zaszczyt supportowania gwiazd takich jak Scorp
 ions\, Guano Apes\, Lucuna Coli\, Enter Shikari\, Anti-Flag\, Kaliban czy 
 Clawfinger. Wszystkie koncerty będą dedykowane powrotom do Iron Maiden! 
 To już 20 lat odkąd Bruce i Adrian powrócili! Blood Brothers zagrają c
 ały album «Brave New World»! Musisz tam być!\n\nAudio:\nwww.soundcloud
 .com/bloodbrothers_im\n\nVideo:\nhttps://youtu.be/pZxj4f1nZ58 - The Troope
 r\nhttps://youtu.be/vFZtE6g1Lps - Run To The Hills\nhttps://youtu.be/xd6YG
 F0s8rk - Fear Of The Dark\nhttps://youtu.be/FQo85S5OAvk - The Evil That Me
 n Do\nhttps://youtu.be/T-jrzFSi0yQ - Hallowed Be Thy Name\nhttps://youtu.b
 e/IAFidHBWOE4 - Blood Brothers\nhttps://youtu.be/GhlVQ5UGg2k - Seventh Son
  Of A Seventh Son\n - 2 Minutes To Midnight\nhttps://youtu.be/saz4G9sV4Ps 
 - Flight Of Icarus\n\nSocjalne media:\nwww.bloodbrothers.com.ua\nBlood Bro
 thers\nwww.instagram.com/bloodbrothers_im\nhttps://www.youtube.com/channel
 /UC_v2O8B2gmVCBYlelLYSDDw
ATTACH;FMTTYPE=image/jpeg:https://night4u.pl/wp-content/uploads/2019/04/35
 492_image_53354624_1695679343866120_1235191899514470400_o.jpg
CATEGORIES:mazowieckie
LOCATION:Klub Strefa G2\, ul. Przemysłowa 20\, Radom\, 26-610\, Poland
GEO:51.389137;21.149025
X-APPLE-STRUCTURED-LOCATION;VALUE=URI;X-ADDRESS=ul. Przemysłowa 20\, Radom
 \, 26-610\, Poland;X-APPLE-RADIUS=100;X-TITLE=Klub Strefa G2:geo:51.389137
 ,21.149025
END:VEVENT
BEGIN:VTIMEZONE
TZID:Europe/Warsaw
X-LIC-LOCATION:Europe/Warsaw
BEGIN:DAYLIGHT
DTSTART:20190331T030000
TZOFFSETFROM:+0100
TZOFFSETTO:+0200
TZNAME:CEST
END:DAYLIGHT
END:VTIMEZONE
END:VCALENDAR