BEGIN:VCALENDAR
VERSION:2.0
PRODID:-//wp-events-plugin.com//7.2.3.1//EN
TZID:Europe/Warsaw
X-WR-TIMEZONE:Europe/Warsaw
BEGIN:VEVENT
UID:16862@night4u.pl
DTSTART;TZID=Europe/Warsaw:20190619T200000
DTEND;TZID=Europe/Warsaw:20190619T235500
DTSTAMP:20190522T094340Z
URL:https://night4u.pl/wydarzenia/tribute-to-ken-jah/
SUMMARY:Tribute to Ken-Jah
DESCRIPTION:Koncert pamięci Zbigniewa Kendzi - będzie transowo\, reggaeow
 o\, dubowo... tak jak Zbyszek lubił... Będą z nami też jego dżwięki.
  Na początek transowo Burning Mummy\, potem energetyczne roots reggae Yel
 ram i na koniec INITY DUB MISSION z Przyjaciółmi. \nBądźcie z nami w t
 en czerwcowy wieczór!
ATTACH;FMTTYPE=image/jpeg:https://night4u.pl/wp-content/uploads/2019/05/41
 317_image_60846486_2519183178091857_7518964761367674880_n.jpg
CATEGORIES:wielkopolskie
LOCATION:Klub u Bazyla\, ul. Norwida 18A\, Poznan\, 60-867\, Poland
GEO:52.416733;16.911755
X-APPLE-STRUCTURED-LOCATION;VALUE=URI;X-ADDRESS=ul. Norwida 18A\, Poznan\, 
 60-867\, Poland;X-APPLE-RADIUS=100;X-TITLE=Klub u Bazyla:geo:52.416733,16.
 911755
END:VEVENT
BEGIN:VTIMEZONE
TZID:Europe/Warsaw
X-LIC-LOCATION:Europe/Warsaw
BEGIN:DAYLIGHT
DTSTART:20190331T030000
TZOFFSETFROM:+0100
TZOFFSETTO:+0200
TZNAME:CEST
END:DAYLIGHT
END:VTIMEZONE
END:VCALENDAR