BEGIN:VCALENDAR
VERSION:2.0
PRODID:-//wp-events-plugin.com//7.2.3.1//EN
TZID:Europe/Warsaw
X-WR-TIMEZONE:Europe/Warsaw
BEGIN:VEVENT
UID:38315@night4u.pl
DTSTART;TZID=Europe/Warsaw:20200117T203000
DTEND;TZID=Europe/Warsaw:20200117T223000
DTSTAMP:20200331T192635Z
URL:https://night4u.pl/wydarzenia/tribute-to-leonard-cohen-live-music/
SUMMARY:Tribute to Leonard Cohen. Live Music.
DESCRIPTION:Leonarda Cohena nie trzeba przedstawiać – kanadyjski poeta\,
  pisarz i piosenkarz szczególnie ceniony w Polsce – stworzył i zaśpie
 wał wiele wspaniałych piosenek\, które wielu z nas zna i nuci z dużą 
 przyjemnością. Zapraszamy na wieczór piosenek Cohena w znakomitej inter
 pretacji Filipa Rychcika! \n\nWystąpią przed Wami:\nFilip Rychcik - mło
 dy wokalista\, były wokalista zespołu Mafia\, laureat wielu nagród na f
 estiwalach ogólnopolskich i międzynarodowych\, uczestnik kilku programó
 w telewizyjnych. Prawdziwy wulkan energii. Pasjonat gotowania i podróży.
 \nM.in. brał udział w VII edycji ‘The Voice of Poland’\, gdzie pod s
 krzydłami Andrzeja Piasecznego doszedł do etapu Nokautów\; wygrał odci
 nek ‘Szansy na sukces’ z piosenkami Andrzeja Piasecznego\; brał udzia
 ł w I i VI edycji programu ‘Must Be The Music’.\nWspółpracował z t
 akimi gwiazdami jak: Natalia i Paulina Przybysz\, Loka\, Kasia Popowska\, 
 Małgorzata Ostrowska\, Feel\, Kuba Badach\, Mietek Szcześniak.\n\nMicha
 ł Olesiński – gitarzysta\n\n********************\nCocktail Bar Worek K
 ości ● Lokal dla Gości Pełnoletnich\nul. Bagatela 10 ● Warszawa\n
 👉 Otwarcie drzwi: godz. 18.00\n🔊 Start koncertu godz. 20.30\n☝W lo
 kalu obowiązują wyłącznie miejsca siedzące. Z uwagi na nasz bogaty re
 pertuar artystyczny i duże zainteresowanie wydarzeniami\, dla pewności\,
  że znajdziemy dla Was stolik\, prosimy o wcześniejszą rezerwację. Rez
 erwacje przyjmujemy na miejscu w lokalu\, przez Messenger Worka Kości ora
 z telefonicznie 783 666 868 (telefon czynny w godzinach pracy klubu). \nIl
 ość miejsc ograniczona. \n**********************\nBardzo prosimy o niena
 grywanie całości eventu (audio i video) z uwagi na ochronę praw autorsk
 ich Twórców.\n\nRegulamin lokalu – w zakładce Informacje na naszym fa
 n page’u:\nhttps://www.facebook.com/pg/worekkosci/about/?ref=page_intern
 al
ATTACH;FMTTYPE=image/jpeg:https://night4u.pl/wp-content/uploads/2019/12/10
 9565_image_79362246_2593337927413393_6248914555091550208_o.jpg
CATEGORIES:mazowieckie
LOCATION:Worek Kości\, ul. Bagatela 10\, Warsaw\, 00-585\, Poland
GEO:52.213769;21.023019
X-APPLE-STRUCTURED-LOCATION;VALUE=URI;X-ADDRESS=ul. Bagatela 10\, Warsaw\, 
 00-585\, Poland;X-APPLE-RADIUS=100;X-TITLE=Worek Kości:geo:52.213769,21.0
 23019
END:VEVENT
BEGIN:VTIMEZONE
TZID:Europe/Warsaw
X-LIC-LOCATION:Europe/Warsaw
BEGIN:STANDARD
DTSTART:20191027T020000
TZOFFSETFROM:+0200
TZOFFSETTO:+0100
TZNAME:CET
END:STANDARD
END:VTIMEZONE
END:VCALENDAR