BEGIN:VCALENDAR
VERSION:2.0
PRODID:-//wp-events-plugin.com//7.2.3.1//EN
TZID:Europe/Warsaw
X-WR-TIMEZONE:Europe/Warsaw
BEGIN:VEVENT
UID:51101@night4u.pl
DTSTART;TZID=Europe/Warsaw:20211021T200000
DTEND;TZID=Europe/Warsaw:20211021T220000
DTSTAMP:20210908T144710Z
URL:https://night4u.pl/wydarzenia/tribute-to-maanam-21-10-2021-torun/
SUMMARY:Tribute To Maanam | 21.10.2021 | TORUŃ
DESCRIPTION:🗣️ Po cudownie przyjętym koncercie w ubiegłym roku\, Tri
 bute To Maanam powraca do Torunia! Już 21 października (czwartek) 2021 r
 oku w klubie Lizard King Toruń\, usłyszymy największe przeboje jednego 
 z najbardziej znaczących dla polskiej rockowej sceny zespołu. Wszelkie s
 zczegóły dotyczące koncertu\, punkty sprzedaży biletów znajdziecie po
 niżej lub pod numerem telefonu 668-963-904.\n____________________________
 ___\n🎫 BILETY w cenie przedsprzedaży / I PULA / 49 zł dostępne najp
 óźniej do 30 września lub do wyczerpania:\n▪Biletyna.pl: https://bit.
 ly/2UuLC8T\n▪KupBilecik.pl: https://bit.ly/3jVAe0t\n▪Biuro Copernicana
 \, ul. Żeglarska 10/14\n▪Księgarnia PWN\, ul. Reja 25\n▪Inf. Turysty
 czna\, ul. Rynek Staromiejski\n\n🎫 BILETY w cenie regularnej (59 PLN) w
  przypadku nie wyczerpania całej puli będą dostępne w dniu koncertu pr
 zy wejściu do klubu od godz. 18:30.\n_______________________________\n
 📋 Rezerwacja stolików (bezpłatne):\n▪ e-mail: lizardkingtorun@gmail
 .com\n☎ Bilety grupowe / rezerwacje:\n▪ pod numerem telefonu: 668-963-
 904\n_______________________________\nPo cudownie przyjętym koncercie w u
 biegłym roku\, Tribute To Maanam powraca do Lizard King Toruń już 21 pa
 ździernika 2021! \n\nTribute to MAANAM to hołd dla jednego z najbardziej
  znaczących dla polskiej rockowej sceny muzycznej zespołów. To ukłon m
 łodych muzyków w stronę znakomitej muzyki\, a przede wszystkim wspania
 łych tekstów Kory\, które przez niemal 40 lat towarzyszyły Polakom w k
 ażdym wieku\, i które na stałe wpisały się w ich serca. \n\nKoncert t
 o podróż przekrojowa po największych hitach Maanamu\, wśród których 
 nie zabraknie takich przebojów jak: „Boskie Buenos”\, „Szare miraż
 e”\, „Kocham cię kochanie moje”\, „Ta noc do innych jest niepodob
 na”\, „Krakowski Spleen”\, „Się ściemnia”\, „Cykady na Cykla
 dach”\, „Szał niebieskich ciał” i wiele innych.\n\nProjekt nie sta
 ra się być kopią Maanamu\, a próbą spojrzenia na znany od lat materia
 ł z perspektywy młodego pokolenia. To nowe aranżacje zachowujące ducha
  oryginału\, w których przeplata się buntownicza muzyka lat 80tych z no
 wymi brzmieniami i elementami wszelakich nurtów muzycznych. To próba wyc
 iągnięcia ze znanych przebojów ich esencji\, siły przekazu i przepuszc
 zenia ich przez nowy pryzmat muzyczny. \n\nTribute to Maanam zagrają dla 
 Was: \nJulita "Ziela" Zielińska - wokal \nHubert Baumann - gitara \nFilip
  Arasimowicz - gitara basowa \nJan Jarecki - instrumenty klawiszowe\nDarek
  Mrozek - perkusja
ATTACH;FMTTYPE=image/jpeg:https://night4u.pl/wp-content/uploads/2021/08/18
 6411_image_215314635_10158604358086731_2777933633068356791_n.jpg
CATEGORIES:kujawsko-pomorskie
LOCATION:Lizard King Toruń\, Kopernika 3\, Torun\, 87-100\, Poland
GEO:53.00939;18.60504
X-APPLE-STRUCTURED-LOCATION;VALUE=URI;X-ADDRESS=Kopernika 3\, Torun\, 87-10
 0\, Poland;X-APPLE-RADIUS=100;X-TITLE=Lizard King Toruń:geo:53.00939,18.6
 0504
END:VEVENT
BEGIN:VTIMEZONE
TZID:Europe/Warsaw
X-LIC-LOCATION:Europe/Warsaw
BEGIN:DAYLIGHT
DTSTART:20210328T030000
TZOFFSETFROM:+0100
TZOFFSETTO:+0200
TZNAME:CEST
END:DAYLIGHT
END:VTIMEZONE
END:VCALENDAR