BEGIN:VCALENDAR
VERSION:2.0
PRODID:-//wp-events-plugin.com//7.2.3.1//EN
TZID:Europe/Warsaw
X-WR-TIMEZONE:Europe/Warsaw
BEGIN:VEVENT
UID:43796@night4u.pl
DTSTART;TZID=Europe/Warsaw:20200229T220000
DTEND;TZID=Europe/Warsaw:20200301T040000
DTSTAMP:20200228T200721Z
URL:https://night4u.pl/wydarzenia/tribute-to-scooter/
SUMMARY:Tribute to Scooter
DESCRIPTION:Już 29.02.2020 czeka Was powrót do lat '90 wraz z przebojami 
 legendy muzyki elektronicznej - Scootera\n\nNa chwilę przeniesiecie się 
 do zupełnie innego wymiaru - pozwólcie więc zabrać się w ten intergal
 aktyczny lot poprzez dekady kultowej elektroniki. Plan tej transcendentaln
 ej podróży przewiduje ogromne ilości rave'u\, breakbeat'u hardcore'u\, 
 techno\, trance oraz dance. Tego wydarzenia absolutnie nie wolno przegapi
 ć !\n\nTego wieczoru w Szczecińskim Labirynt Club zabrzmią takie hity j
 ak "Maria"\, "Nessaja"\, "How much is the fish" i wiele innych.\n\nO mix h
 itów zadbają lokalni DJ'e\n\nDla studentów przewidziane są alkoholowe 
 gratisy na barze po okazaniu aktualnej legitymacji\n\nStart imprezy godzin
 a 22:00 - otwarcie drzwi 21:30\n\nBilety dostępne w przedsprzedaży w cen
 ie 25 PLN\n\nonline: \n\nhttps://evenea.pl/event/849907-1/ \n\noraz stacjo
 narnie w Bistro Podkowa (Wojska Polskiego 20\, Szczecin)\n\nW dniu imprezy
  cena biletu to 35 PLN\n\nRezerwacja loży pod nr 517 200 758\n\nWstęp na
  imprezę wyłącznie dla osób pełnoletnich !
ATTACH;FMTTYPE=image/jpeg:https://night4u.pl/wp-content/uploads/2020/01/14
 0891_image_82811250_2752496858176754_771800370346196992_o.jpg
CATEGORIES:zachodniopomorskie
LOCATION:Labirynt CLUB\, Szczecin\, Al.Wojska Polskiego 20/U1\, Szczecin\, 
 70-471\, Poland
GEO:53.428283;14.543752
X-APPLE-STRUCTURED-LOCATION;VALUE=URI;X-ADDRESS=Szczecin\, Al.Wojska Polski
 ego 20/U1\, Szczecin\, 70-471\, Poland;X-APPLE-RADIUS=100;X-TITLE=Labirynt
  CLUB:geo:53.428283,14.543752
END:VEVENT
BEGIN:VTIMEZONE
TZID:Europe/Warsaw
X-LIC-LOCATION:Europe/Warsaw
BEGIN:STANDARD
DTSTART:20191027T020000
TZOFFSETFROM:+0200
TZOFFSETTO:+0100
TZNAME:CET
END:STANDARD
END:VTIMEZONE
END:VCALENDAR