BEGIN:VCALENDAR
VERSION:2.0
PRODID:-//wp-events-plugin.com//7.2.3.1//EN
TZID:Europe/Warsaw
X-WR-TIMEZONE:Europe/Warsaw
BEGIN:VEVENT
UID:6862@night4u.pl
DTSTART;TZID=Europe/Warsaw:20190529T200000
DTEND;TZID=Europe/Warsaw:20190529T230000
DTSTAMP:20190210T153146Z
URL:https://night4u.pl/wydarzenia/tribute-to-the-jackson-5-an-american-dre
 am-w-starym-klasztorz/
SUMMARY:Tribute to The Jackson 5: „An American Dream" w Starym Klasztorz
DESCRIPTION:Tribute to The Jackson 5: „An American Dream" w w Starym Klas
 ztorze!\n\nMiłośników talentu rodziny Jacksonów zapraszamy 29 maja do 
 klubu muzycznego  Stary Klasztor. \nKoncert Tribute to The Jackson 5: „A
 n American Dream" to efekt współpracy wokalistki Anny Malek oraz zespoł
 u wrocławskich muzyków w składzie :\nBartek Ziętara - instrumenty klaw
 iszowe\nWojtek Bergander - gitara basowa\,\nMaciek Mazurek - gitara\,\nMic
 hał Bednarz - perkusja\n\nZ czym kojarzy Ci się zespół The Jackson 5?\
 nTo symbol Ameryki lat 70tych i 80tych. Soulowo - funkowe brzemienia. Rhyt
 hym and blues\, pop. To piosenki\, które po dziś dzień ma na ustach ca
 ły świat. Piosenki\, które coverowało wielu artystów na całym świec
 ie. To zespół\, który odegrał kluczową rolę w rozwoju współczesnej
  muzyki rozrywkowej.\nPodczas koncertu w Starej Piwnicy usłyszymy najwię
 ksze przeboje rodzeństwa Jacksonów - \n"I want you back"\, "Who's lovin 
 you"\, "I'll be there"\, "Dancing machine"\, "ABC"\, "Shake your body" i w
 iele innych\n\n29.05.19 godz.20.00 klub muzyczny Stary Klasztor\, ul. Purk
 yniego 1\nTRIBUTE TO THE JACKSON 5: „An American Dream"\nbilety: 20 zł 
 - przedsprzedaż w klubie i rezerwacje: bilety@o2.pl\, 25 zł - w punktach
  sprzedaży i w dniu koncertu\n\nBilety dostępne w sieci salonów Empik i
  MediaMarkt w całej Polsce\noraz w serwisach: www.staryklasztor.com.pl/bi
 lety/\, www.biletin.pl\, www.eventim.pl\, www.biletyna.pl\, www.ebilet.pl\
 , www.kupbilecik.pl\, www.empikbilety.pl\nrezerwacje: bilety@o2.pl \n\nUwa
 ga\, kupuj bilety wyłącznie w autoryzowanych punktach! \nZakup biletów 
 poza autoryzowanymi punktami sprzedaży (Facebook\, aukcje internetowe\, s
 ystemy odsprzedaży biletów itp.) stwarza ryzyko zakupu biletów nieorygi
 nalnych lub nieważnych\, które nie umożliwią wejścia na koncert.
ATTACH;FMTTYPE=image/jpeg:https://night4u.pl/wp-content/uploads/2019/02/20
 020_image_48413372_2007331132715345_5849577712909287424_o.jpg
CATEGORIES:dolnośląskie
LOCATION:Stary Klasztor\, Purkyniego 1\, Wroclaw\, 50-155\, Poland
GEO:51.110198;17.039162
X-APPLE-STRUCTURED-LOCATION;VALUE=URI;X-ADDRESS=Purkyniego 1\, Wroclaw\, 50
 -155\, Poland;X-APPLE-RADIUS=100;X-TITLE=Stary Klasztor:geo:51.110198,17.0
 39162
END:VEVENT
BEGIN:VTIMEZONE
TZID:Europe/Warsaw
X-LIC-LOCATION:Europe/Warsaw
BEGIN:DAYLIGHT
DTSTART:20190331T030000
TZOFFSETFROM:+0100
TZOFFSETTO:+0200
TZNAME:CEST
END:DAYLIGHT
END:VTIMEZONE
END:VCALENDAR