BEGIN:VCALENDAR
VERSION:2.0
PRODID:-//wp-events-plugin.com//7.2.3.1//EN
TZID:Europe/Warsaw
X-WR-TIMEZONE:Europe/Warsaw
BEGIN:VEVENT
UID:16355@night4u.pl
DTSTART;TZID=Europe/Warsaw:20190614T200000
DTEND;TZID=Europe/Warsaw:20190614T230000
DTSTAMP:20190516T203716Z
URL:https://night4u.pl/wydarzenia/tribute-to-woodstock-1969-w-starym-klasz
 torze/
SUMMARY:Tribute to Woodstock 1969 w Starym Klasztorze!
DESCRIPTION:Tribute to Woodstock 1969 w Starym Klasztorze!\n\nW tym roku pr
 zypada 50. rocznica legendarnego festiwalu Woodstock\, który stał się j
 ednym z symboli muzyki rockowej.\nZ tej okazji zapraszamy 14 czerwca do Sa
 li Gotyckiej w Starym Klasztorze na specjalny koncert  Tribute to Woodstoc
 k 1969!\n\nKultowe utwory artystów występujących na festiwalu Woodstock
  w 1969 roku przypomni zespół prowadzony przez Marka "Stinga" Popowa\, z
 nany publiczności z rewelacyjnego cyklu Gitarowe Riffy i Solówki Wszech 
 Czasów w ramach Gitarowego Rekordu Guinnessa i  innych specjalnych projek
 tów w Starym Klasztorze i Starej Piwnicy oraz zaproszeni wokaliści.\nZag
 ramy numery m.in. Janis Joplin\, Carlosa Santany\, Joe Cockera\, Credence 
 Clearwater Revival\, Canned Heat i oczywiście\, Jimiego Hendrixa.\nPojawi
  sie też kilka utworów z kultowego musicalu "Hair"\nGościnnie zaśpiewa
  Natalia Sikora\, która wcieli się w postać Janis Joplin.\n\nBilety na 
 miejsca stojące w symbolicznej cenie 10 zł są do nabycia w klubie Stary
  Klasztor\, można je również zarezerwować pod adresem bilety@o2.pl. Bi
 lety w cenie 15 zł można nabyć w stałych punktach sprzedaży i serwisa
 ch online oraz przy wejściu na koncert.\nBilety na miejsca siedzące kosz
 tują: 25 zł - przedsprzedaż w klubie i rezerwacje: bilety@o2.pl\, 30 z
 ł - w punktach sprzedaży i w dniu koncertu.\nWszystkie osoby ubrane w hi
 ppiesowskim stylu ” dzieci – kwiatów” zapłacą tylko 5 zł  przy w
 ejściu na imprezę!\n\nBezpośrednio po woodstockowym  koncercie zaprasza
 my na "Oldskulowe After Party w Stylu Hippie"\, które rozkręcać będzie
  DJ Siwy na Letniej Scenie na Dziedzińcu Starego Klasztoru.\n\nKoncert od
 będzie się w ramach WrocLove Fest 2019 odbywającego się corocznie z ok
 azji Święta Wrocławia.\nZaznaczcie w kalendarzach: 14.06.19 - Peace & L
 ove @ WrocLove Fest!\n\n14.06.19 godz.20.00 Sala Gotycka w Starym Klasztor
 ze\, ul. Purkyniego 1\nWrocLove Fest 2019\nTRIBUTE TO WOODSTOCK 1969\nmiej
 sca stojące: 10 zł - przedsprzedaż w klubie i rezerwacje: bilety@o2.pl\
 , 15 zł - w punktach sprzedaży i w dniu koncertu\nmiejsca siedzące: 25 
 zł - przedsprzedaż w klubie i rezerwacje: bilety@o2.pl\, 30 zł - w punk
 tach sprzedaży i w dniu koncertu\n\nBilety dostępne w sieci salonów Emp
 ik i MediaMarkt w całej Polsce\noraz w serwisach: www.staryklasztor.com.p
 l/bilety/\, www.biletin.pl\, www.biletyna.pl\, www.eventim.pl\, www.ebilet
 .pl\, \nrezerwacje: bilety@o2.pl
ATTACH;FMTTYPE=image/jpeg:https://night4u.pl/wp-content/uploads/2019/05/40
 052_image_60030302_2202149956566794_6535566663905968128_n.jpg
CATEGORIES:dolnośląskie
LOCATION:Stary Klasztor\, Purkyniego 1\, Wroclaw\, 50-155\, Poland
GEO:51.110198;17.039162
X-APPLE-STRUCTURED-LOCATION;VALUE=URI;X-ADDRESS=Purkyniego 1\, Wroclaw\, 50
 -155\, Poland;X-APPLE-RADIUS=100;X-TITLE=Stary Klasztor:geo:51.110198,17.0
 39162
END:VEVENT
BEGIN:VTIMEZONE
TZID:Europe/Warsaw
X-LIC-LOCATION:Europe/Warsaw
BEGIN:DAYLIGHT
DTSTART:20190331T030000
TZOFFSETFROM:+0100
TZOFFSETTO:+0200
TZNAME:CEST
END:DAYLIGHT
END:VTIMEZONE
END:VCALENDAR