BEGIN:VCALENDAR
VERSION:2.0
PRODID:-//wp-events-plugin.com//7.2.3.1//EN
TZID:Europe/Warsaw
X-WR-TIMEZONE:Europe/Warsaw
BEGIN:VEVENT
UID:32863@night4u.pl
DTSTART;TZID=Europe/Warsaw:20191031T210000
DTEND;TZID=Europe/Warsaw:20191101T060000
DTSTAMP:20191031T055747Z
URL:https://night4u.pl/wydarzenia/trill-pem-%e2%80%a2-halloween-%e2%80%a2-
 16-high-school-party-xdemon/
SUMMARY:Trill Pem • Halloween • 16+ // High School Party Xdemon
DESCRIPTION:Najstraszniejsze HALLOWEEN w Zielonej Górze...\nCzy jesteście
  gotowi na upiorną noc straszydeł i duchów? Jeśli masz słabe serce\, 
 lepiej zostań w domu! Najstraszniejsze i Halloween W Zielonej Górze odby
 wa się w klubie X-Demon. Koszmarna obsługa\, mroczne wnętrza\, krwawe k
 oktajle\, grobowy nastrój\, oraz wisielczy humor DJ'i to atuty\, które d
 oceni każdy z Was . \n\nWampirzyco\, Wampirze\, Diablico\, Strzygo\, Upio
 rze i każda demoniczna istoto - oddajemy w Wasze władanie parkiet – op
 anujcie całe podziemie! Bawcie się piekielnie dobrze\, głośno i huczni
 e.Co jeszcze czeka na Was w podziemiu? \nKONCERT Trill Pem ‼️\n\n‼
 ️Przebierz sie i weź udział w konkursie‼️\n\nUWAGA! WSTĘP +16\n\n
 Nie możesz tego przegapić ! Dołącz do wydarzenia już dziś!\n\n☎ Re
 zerwacje ONLINE http://bit.ly/1RtF806\nINFO: 797 407 885 ☎\n\nNie zapomn
 ij o kuszących promocjach w klubie X-DEMON:\n\nPROMOCJA URODZINOWA\nPROMO
 CJA NA WIECZÓR PANIEŃSKI \n\nOBSERWUJ NAS:\nwww.xdemon.pl\nwww.facebook.
 com/XDemon\nwww.instagram.com/xdemonzielonagora\nsnapchat: xdemonzg
ATTACH;FMTTYPE=image/jpeg:https://night4u.pl/wp-content/uploads/2019/10/80
 330_image_74217359_2195847250714694_8519499666671271936_o.jpg
CATEGORIES:lubuskie
LOCATION:High School Party X-Demon Zielona Góra\, Kupiecka 63\, Zielona G
 óra\, 65-058\, Poland
GEO:51.94178;15.50419
X-APPLE-STRUCTURED-LOCATION;VALUE=URI;X-ADDRESS=Kupiecka 63\, Zielona Góra
 \, 65-058\, Poland;X-APPLE-RADIUS=100;X-TITLE=High School Party X-Demon Zi
 elona Góra:geo:51.94178,15.50419
END:VEVENT
BEGIN:VTIMEZONE
TZID:Europe/Warsaw
X-LIC-LOCATION:Europe/Warsaw
BEGIN:STANDARD
DTSTART:20191027T020000
TZOFFSETFROM:+0200
TZOFFSETTO:+0100
TZNAME:CET
END:STANDARD
END:VTIMEZONE
END:VCALENDAR