BEGIN:VCALENDAR
VERSION:2.0
PRODID:-//wp-events-plugin.com//7.2.3.1//EN
TZID:Europe/Warsaw
X-WR-TIMEZONE:Europe/Warsaw
BEGIN:VEVENT
UID:23005@night4u.pl
DTSTART;TZID=Europe/Warsaw:20190803T210000
DTEND;TZID=Europe/Warsaw:20190804T030000
DTSTAMP:20190724T175657Z
URL:https://night4u.pl/wydarzenia/tropical-vibes/
SUMMARY:Tropical Vibes
DESCRIPTION:TROPICAL VIBES \n\nLato w pełni\, a w Kula Bowling & Club niez
 wykle gorąca impreza Tropical Vibes!  Wspaniała atmosfera\, energetyczne
  muzyczne brzmienia i kolorowe tropikalne trunki - to wszystko czeka Was w
  ten sobotni wieczór! A od 21 do 23 promocja HAPPY SHOT\, czyli kolorowe 
 shoty smakowe w super cenie!  \nDo zobaczenia  :-)\n\n****************\nSO
 BOTA 3.08\nSTART 21:00 \nWSTĘP: free 18+ \n********************\nRezerwac
 je loży i torów: 502 810 487 lub 17 717 90 60 \nRezerwacje loży online:
  http://tinyurl.com/Rezerwacje-Kula-Bowling-Club
ATTACH;FMTTYPE=image/jpeg:https://night4u.pl/wp-content/uploads/2019/07/54
 357_image_67096035_2146128355514063_1954162720420921344_o.jpg
CATEGORIES:podkarpackie
LOCATION:Kula  Bowling &amp\; Club\, Krakowska 20\, Rzeszów\, 35-111\, Pol
 and
GEO:50.048906;21.975939
X-APPLE-STRUCTURED-LOCATION;VALUE=URI;X-ADDRESS=Krakowska 20\, Rzeszów\, 3
 5-111\, Poland;X-APPLE-RADIUS=100;X-TITLE=Kula  Bowling & Club:geo:50.0489
 06,21.975939
END:VEVENT
BEGIN:VTIMEZONE
TZID:Europe/Warsaw
X-LIC-LOCATION:Europe/Warsaw
BEGIN:DAYLIGHT
DTSTART:20190331T030000
TZOFFSETFROM:+0100
TZOFFSETTO:+0200
TZNAME:CEST
END:DAYLIGHT
END:VTIMEZONE
END:VCALENDAR