BEGIN:VCALENDAR
VERSION:2.0
PRODID:-//wp-events-plugin.com//7.2.3.1//EN
TZID:Europe/Warsaw
X-WR-TIMEZONE:Europe/Warsaw
BEGIN:VEVENT
UID:49935@night4u.pl
DTSTART;TZID=Europe/Warsaw:20200314T220000
DTEND;TZID=Europe/Warsaw:20200315T060000
DTSTAMP:20200311T230840Z
URL:https://night4u.pl/wydarzenia/trust-me-you-can-dance/
SUMMARY:Trust me! You can dance!
DESCRIPTION:Trust me... You can dance! 🚀🚀🚀\n\nKażdy umie tańczy
 ć! Niektórzy na swój sposób 😋\nJuż w najbliższą sobotę... Czter
 ech nicponi udowodni Wam\, że można nie schodzić z parkietu całą noc!
  🕺💃\nTo będzie prawdziwe muzyczne KOMBO w wykonaniu naszych rezyden
 tów i ich gości!\n\nTOM FORESTER! MJ.SAX! MARCIN S. i GROUSE &lt\;3\nTo 
 do nich będzie należała Maskowa scena\, a udowodnili już nie raz\, że
  potrafią to doskonale wykorzystać.\n\nNie będziemy Wam ich przedstawia
 ć po raz kolejny... Wydaje nam się\, że doskonale wiecie kim są i jaki
 ej możecie spodziewać się od nich energii! \n\nWidzimy się w sobotę!\
 nBędzie ogień! 🔥🔥🔥
ATTACH;FMTTYPE=image/jpeg:https://night4u.pl/wp-content/uploads/2020/03/17
 4283_image_89364622_2961008713966222_2551256289455898624_o.jpg
CATEGORIES:świętokrzyskie
LOCATION:MASKA Incognito Club\, Rynek 5\, Kielce\, 25-303\, Poland
GEO:50.871945;20.632092
X-APPLE-STRUCTURED-LOCATION;VALUE=URI;X-ADDRESS=Rynek 5\, Kielce\, 25-303\,
  Poland;X-APPLE-RADIUS=100;X-TITLE=MASKA Incognito Club:geo:50.871945,20.6
 32092
END:VEVENT
BEGIN:VTIMEZONE
TZID:Europe/Warsaw
X-LIC-LOCATION:Europe/Warsaw
BEGIN:STANDARD
DTSTART:20191027T020000
TZOFFSETFROM:+0200
TZOFFSETTO:+0100
TZNAME:CET
END:STANDARD
END:VTIMEZONE
END:VCALENDAR