BEGIN:VCALENDAR
VERSION:2.0
PRODID:-//wp-events-plugin.com//7.2.3.1//EN
TZID:Europe/Warsaw
X-WR-TIMEZONE:Europe/Warsaw
BEGIN:VEVENT
UID:22208@night4u.pl
DTSTART;TZID=Europe/Warsaw:20190720T103000
DTEND;TZID=Europe/Warsaw:20190720T123000
DTSTAMP:20190714T170507Z
URL:https://night4u.pl/wydarzenia/trzecie-sniadanie-sasiedzkie-na-salonie/
SUMMARY:Trzecie Śniadanie Sąsiedzkie na Salonie
DESCRIPTION:20.07.2019\nSkwer R.Wilhelmiego przy ulicach Masztalarska/23 lu
 tego\nstart 14.00\nwstęp wolny \n\nSalon Sąsiedzki 2019\n(w ramach Kultu
 ralny Stary Rynek)\n \nstart godz.11.00\nSobotnie\, cotygodniowe spotkanie
  na Salonie Sąsiedzkim rozpoczynamy o godz.11.00 pięknym i smacznym śni
 adaniem. Śniadanie wydajemy na kupony\, które można od środy odbierać
  już w klubie Dragon. (Uwaga ilość kuponów ograniczona) \nJednocześni
 e rozpoczynamy animacje z udziałem Pani Józefiny oraz inne działania na
  skwerze.\nKĄCIK NA KOCU w Salonie Sąsiedzkim\n\nPodczas Salonu Sąsiedz
 kiego 14\, 21\, 28 lipca oraz 11 sierpnia zapraszamy najmłodszych Gości 
 do KĄCIKA NA KOCU. \nW Salonowym Kąciku będziemy zaczytywać się ksią
 żkami Zakamarkowymi\,\na  zaczytując wymyślać będziemy zabawy\, któr
 e doskonale nadają się\ndo wykorzystania podczas czytania. \nCiekawe\, c
 o się tam wydarzy.\nKącik Na Kocu prowadzi Julia Szmyt.\n\nO godz.10.30 
 co tydzień\, znakomity poznański pianista Szymon Siwierski rozpocznie "K
 awiarnianą Improwizację Salonów".\nSalon Śniadaniowy kończymy ok. god
 z.13.30.
ATTACH;FMTTYPE=image/jpeg:https://night4u.pl/wp-content/uploads/2019/07/52
 515_image_66828264_2418803501737483_8986691112320106496_o.jpg
CATEGORIES:wielkopolskie
LOCATION:Salon Sąsiedzki - Kulturalny Stary Rynek\, ul.zamkowa3\, Poznan\,
  61-768\, Poland
GEO:52.4094;16.93197
X-APPLE-STRUCTURED-LOCATION;VALUE=URI;X-ADDRESS=ul.zamkowa3\, Poznan\, 61-7
 68\, Poland;X-APPLE-RADIUS=100;X-TITLE=Salon Sąsiedzki - Kulturalny Stary
  Rynek:geo:52.4094,16.93197
END:VEVENT
BEGIN:VTIMEZONE
TZID:Europe/Warsaw
X-LIC-LOCATION:Europe/Warsaw
BEGIN:DAYLIGHT
DTSTART:20190331T030000
TZOFFSETFROM:+0100
TZOFFSETTO:+0200
TZNAME:CEST
END:DAYLIGHT
END:VTIMEZONE
END:VCALENDAR