BEGIN:VCALENDAR
VERSION:2.0
PRODID:-//wp-events-plugin.com//7.2.3.1//EN
TZID:Europe/Warsaw
X-WR-TIMEZONE:Europe/Warsaw
BEGIN:VEVENT
UID:6044@night4u.pl
DTSTART;TZID=Europe/Warsaw:20190209T200000
DTEND;TZID=Europe/Warsaw:20190209T235900
DTSTAMP:20190201T053228Z
URL:https://night4u.pl/wydarzenia/trzy-maszty-torun-8-urodziny-zespolu-pre
 miera-teledysku/
SUMMARY:Trzy Maszty Toruń - 8 urodziny zespołu + Premiera Teledysku
DESCRIPTION:8 lat. Dokładnie tyle czasu już gramy\, bo to właśnie na po
 czątku 2011 roku były pierwsze próby. Metryka nie kłamie – nadal jes
 teśmy dziećmi\, które lubią bawić się zabawkami (gitary grają same\
 , przyp. red.). Teraz też chętnie się pobawimy. Z Wami. Na naszym konce
 rcie urodzinowym w toruńskiej Hipisówka.\n\nSzykujemy dla Was kilka nies
 podzianek. A przynajmniej 2. Jedna to oficjalna premiera naszego teledysku
  do utworu „Kapitański bat”\, który nagraliśmy jesienią ubiegłego
  roku. Obejrzymy go wszyscy razem nim zaczniemy to\, co zwykle robimy w Hi
 pisówce (nie ma znaczenia czy wtedy gramy czy nie).\n\nDruga niespodziank
 a pozostanie nią w zasadzie do samego końca. My się już boimy\, Wy te
 ż powinniście \;)\n\nStart: 20:00\nWjazd: free\nGrzebień: będzie\n\nDo
  zobaczenia Toruń\, do zobaczenia Hipisi.\nAHOJ
ATTACH;FMTTYPE=image/jpeg:https://night4u.pl/wp-content/uploads/2019/01/18
 114_image_51112666_2274331505931410_2027793822972379136_n.jpg
CATEGORIES:kujawsko-pomorskie
LOCATION:Hipisówka\, Kopernika 20\, Torun\, 87-100\, Poland
GEO:53.0095;18.604499
X-APPLE-STRUCTURED-LOCATION;VALUE=URI;X-ADDRESS=Kopernika 20\, Torun\, 87-1
 00\, Poland;X-APPLE-RADIUS=100;X-TITLE=Hipisówka:geo:53.0095,18.604499
END:VEVENT
BEGIN:VTIMEZONE
TZID:Europe/Warsaw
X-LIC-LOCATION:Europe/Warsaw
BEGIN:STANDARD
DTSTART:20181028T020000
TZOFFSETFROM:+0200
TZOFFSETTO:+0100
TZNAME:CET
END:STANDARD
END:VTIMEZONE
END:VCALENDAR