BEGIN:VCALENDAR
VERSION:2.0
PRODID:-//wp-events-plugin.com//7.2.3.1//EN
TZID:Europe/Warsaw
X-WR-TIMEZONE:Europe/Warsaw
BEGIN:VEVENT
UID:47516@night4u.pl
DTSTART;TZID=Europe/Warsaw:20200321T190000
DTEND;TZID=Europe/Warsaw:20200321T230000
DTSTAMP:20200319T002921Z
URL:https://night4u.pl/wydarzenia/tsa-support-w-graffiti-lublin/
SUMMARY:TSA + Support w Graffiti Lublin!
DESCRIPTION:Już 21-go marca zespół TSA w Lublinie klub Graffiti!!! Opró
 cz starych dobrych numerów usłyszycie również kilka nowych kompozycji 
 zespołu\, które ukażą się na nadchodzącej płycie. Jako support zagr
 a przed wami Młot Na Czarownice \;-) Będzie się działo! Przybywajcie!!
 !\n\nBilety: https://ticketos.pl/event/3247\n\nPrzedsprzedaż: 35 zł\n   
         TeleSerwis24 (Dragonów 3B)\nW dniu koncertu: 45 zł
ATTACH;FMTTYPE=image/jpeg:https://night4u.pl/wp-content/uploads/2020/02/15
 9286_image_84453991_569820070293027_1449118697200287744_o.jpg
CATEGORIES:lubelskie
LOCATION:Klub Graffiti\, Al. Piłsudskiego 13\, Lublin\, 20-011\, Poland
GEO:51.240325;22.557024
X-APPLE-STRUCTURED-LOCATION;VALUE=URI;X-ADDRESS=Al. Piłsudskiego 13\, Lubl
 in\, 20-011\, Poland;X-APPLE-RADIUS=100;X-TITLE=Klub Graffiti:geo:51.24032
 5,22.557024
END:VEVENT
BEGIN:VTIMEZONE
TZID:Europe/Warsaw
X-LIC-LOCATION:Europe/Warsaw
BEGIN:STANDARD
DTSTART:20191027T020000
TZOFFSETFROM:+0200
TZOFFSETTO:+0100
TZNAME:CET
END:STANDARD
END:VTIMEZONE
END:VCALENDAR