BEGIN:VCALENDAR
VERSION:2.0
PRODID:-//wp-events-plugin.com//7.2.3.1//EN
TZID:Europe/Warsaw
X-WR-TIMEZONE:Europe/Warsaw
BEGIN:VEVENT
UID:15276@night4u.pl
DTSTART;TZID=Europe/Warsaw:20190526T120000
DTEND;TZID=Europe/Warsaw:20190526T200000
DTSTAMP:20190509T093639Z
URL:https://night4u.pl/wydarzenia/turniej-bilardowy-9-stopowiec-3/
SUMMARY:Turniej bilardowy - 9 stopowiec
DESCRIPTION:Zapraszamy na Turniej Bilardowy „9-stopowiec” - dla amator
 ów który odbędzie się 26 maja 2019r.\n\nWpisowe 10zł. Zapisy Online: 
 http://turnieje-bilardowe-poznan.pl/sklep/ lub w Klubie "9 stóp" w dniu t
 urnieju.\nSzczegóły na stronie: http://turnieje-bilardowe-poznan.pl
ATTACH;FMTTYPE=image/jpeg:https://night4u.pl/wp-content/uploads/2019/05/37
 743_image_59694538_321890888500620_2256010371988979712_n.jpg
CATEGORIES:wielkopolskie
LOCATION:9stóp\, Łacina 6- 8\, Poznan\, 61-132\, Poland
GEO:52.396793;16.951747
X-APPLE-STRUCTURED-LOCATION;VALUE=URI;X-ADDRESS=Łacina 6- 8\, Poznan\, 61-
 132\, Poland;X-APPLE-RADIUS=100;X-TITLE=9stóp:geo:52.396793,16.951747
END:VEVENT
BEGIN:VTIMEZONE
TZID:Europe/Warsaw
X-LIC-LOCATION:Europe/Warsaw
BEGIN:DAYLIGHT
DTSTART:20190331T030000
TZOFFSETFROM:+0100
TZOFFSETTO:+0200
TZNAME:CEST
END:DAYLIGHT
END:VTIMEZONE
END:VCALENDAR