BEGIN:VCALENDAR
VERSION:2.0
PRODID:-//wp-events-plugin.com//7.2.3.1//EN
TZID:Europe/Warsaw
X-WR-TIMEZONE:Europe/Warsaw
BEGIN:VEVENT
UID:15252@night4u.pl
DTSTART;TZID=Europe/Warsaw:20190509T120000
DTEND;TZID=Europe/Warsaw:20190509T150000
DTSTAMP:20190508T105051Z
URL:https://night4u.pl/wydarzenia/turniej-pilki-noznej-juwenalia-politechn
 iki-lubelskiej/
SUMMARY:Turniej Piłki Nożnej / Juwenalia Politechniki Lubelskiej
DESCRIPTION:Regulamin „Turnieju Piłki Nożnej Halowej”\npod patronatem
  JM Rektora Politechniki Lubelskiej.\n\nORGANIZATORZY:\nSamorząd Studenck
 i Politechniki Lubelskiej\n\nCEL IMPREZY:\nCelem zawodów jest promowanie 
 zdrowego stylu życia i aktywności sportowej oraz integracja środowiska 
 studenckiego Politechniki Lubelskiej poprzez sportową rywalizację.\n\nCZ
 AS I MIEJSCE ROZGRYWANIA ZAWODÓW:\nZawody zostaną rozegrane w czwartek 9
  maja 2019 roku w Centrum Sportowo – Rekreacyjnym Politechniki Lubelskie
 j – hala sportowa. Start zawodów o godzinie 12.00.\nWARUNKI UCZESTNICTW
 A:\n1. W turnieju mogą brać udział wyłącznie studenci\, doktoranci or
 az pracownicy Politechniki Lubelskiej.\n2. Zgłoszenia drużyn do turnieju
  następują poprzez wypełnienie oraz przesłanie formularza zgłoszeniow
 ego dostępnego pod adresem:\n\nhttps://forms.gle/ymeYTydzzKqJU9XE9\n\n3. 
 Zgłoszenia przyjmowane są do dnia 8 maja 2019 roku do godziny 23.59.\n4.
  Błędnie wypełnione zgłoszenie nie będzie rozpatrywane.\n5. O udziale
  w turnieju decyduje kolejność zgłoszenia.\n6. W turnieju może wziąć
  udział 12 drużyn.\n7. Liczba osób danej drużyny musi mieścić się w
  przedziale od 6 do 10 osób. .\nSYSTEM ROZGRYWEK:\n1. Rozgrywki odbywają
  się na hali sportowej.\n2. Zawody odbywają się systemem mieszanym (sys
 tem grupowy oraz pucharowy). \n3. Rozgrywki rozpoczynają się od zmagań 
 grupowych. Rozlosowane zostaną 4 grupy po 3 drużyny. Z każdej grupy zos
 tanie wyłoniona 1 najlepsza drużyna\, która następnie wystąpi w fazie
  pucharowej turnieju. \n4. Czas trwania meczu to 12 minut\, bez zmiany str
 on.\nPRZEPISY I ZASADY GRY:\n1. Zespoły występują w 5-cio osobowych sk
 ładach (bramkarz + czterech zawodników z pola). Obowiązują zmiany „h
 okejowe”.\n2. Zawodnicy mogą być zdyskwalifikowani z zawodów za niesp
 ortowe zachowanie.\n3. Zespoły powinny posiadać jednolite stroje.\n4. Za
  zwycięstwo drużynie przyznawane są 3 pkt.\, za remis 1 pkt.\, za pora
 żkę 0 pkt.\n5. O kolejności miejsc w tabeli decyduje kolejno:\na) liczb
 a zdobytych punktów\,\nb) wyniki bezpośrednich spotkań zainteresowanych
  drużyn\,\nc) ogólny stosunek bramkowy ze wszystkich spotkań uzyskany p
 rzez drużynę\,\nd) przy identycznym stosunku bramkowym decyduje większa
  liczba strzelonych goli.\n4. Gdy drużyna wycofa się z turnieju wyniki -
 punkty-bramki z jej udziałem są anulowane.\n5. Drużyna\, która nie sta
 wi się na mecz(10 min po godzinie rozpoczęcia)\, zostaje ukarana walkowe
 rem 3:0.\nPRZEPISY KOŃCOWE:\n1. Organizator turnieju zapewnia pierwszą p
 omoc medyczną przy urazach powstałych w trakcie meczów. Organizator nie
  ponosi odpowiedzialności za udział w turnieju osób chorych i wynikają
 cych z tego wypadków i urazów. Zaleca się\, aby zawodnicy biorący udzi
 ał w turnieju przeszli przez badania lekarskie. Organizator nie ponosi od
 powiedzialności za rzeczy pozostawione w szatni.\n2. Zgłoszenie do turni
 eju jest jednoznaczne z przestrzeganiem regulaminu i przepisów gry. W prz
 ypadku nieprzestrzegania regulaminu organizator może nałożyć na druży
 nę lub zawodnika karę: walkower dla drużyny przeciwnej lub usunięcie z
 awodnika lub całej drużyny z turnieju.\n3. Do interpretacji niniejszego 
 regulaminu uprawniony jest jedynie organizator.\nNAGRODY:\nDrużyny\, któ
 re zajmą I\, II\, III miejsce otrzymają puchary oraz nagrody rzeczowe. D
 odatkowo można będzie wygrać nagrody indywidualne: dla najlepszego zawo
 dnika\, strzelca turnieju oraz najlepszego bramkarza turnieju.
ATTACH;FMTTYPE=image/jpeg:https://night4u.pl/wp-content/uploads/2019/05/37
 693_image_59809252_2063365387091999_817316312035360768_o.jpg
CATEGORIES:lubelskie
LOCATION:Politechnika Lubelska\, Nadbystrzycka 36\, Lublin\, 20-618\, Polan
 d
GEO:51.234808;22.546491
X-APPLE-STRUCTURED-LOCATION;VALUE=URI;X-ADDRESS=Nadbystrzycka 36\, Lublin\,
  20-618\, Poland;X-APPLE-RADIUS=100;X-TITLE=Politechnika Lubelska:geo:51.2
 34808,22.546491
END:VEVENT
BEGIN:VTIMEZONE
TZID:Europe/Warsaw
X-LIC-LOCATION:Europe/Warsaw
BEGIN:DAYLIGHT
DTSTART:20190331T030000
TZOFFSETFROM:+0100
TZOFFSETTO:+0200
TZNAME:CEST
END:DAYLIGHT
END:VTIMEZONE
END:VCALENDAR